BEGIN:VCALENDAR
VERSION:2.0
PRODID:-//Cobb County Genealogical Society - ECPv6.15.20//NONSGML v1.0//EN
CALSCALE:GREGORIAN
METHOD:PUBLISH
X-WR-CALNAME:Cobb County Genealogical Society
X-ORIGINAL-URL:https://cobbgagensoc.org
X-WR-CALDESC:Events for Cobb County Genealogical Society
REFRESH-INTERVAL;VALUE=DURATION:PT1H
X-Robots-Tag:noindex
X-PUBLISHED-TTL:PT1H
BEGIN:VTIMEZONE
TZID:America/New_York
BEGIN:DAYLIGHT
TZOFFSETFROM:-0500
TZOFFSETTO:-0400
TZNAME:EDT
DTSTART:20250309T070000
END:DAYLIGHT
BEGIN:STANDARD
TZOFFSETFROM:-0400
TZOFFSETTO:-0500
TZNAME:EST
DTSTART:20251102T060000
END:STANDARD
BEGIN:DAYLIGHT
TZOFFSETFROM:-0500
TZOFFSETTO:-0400
TZNAME:EDT
DTSTART:20260308T070000
END:DAYLIGHT
BEGIN:STANDARD
TZOFFSETFROM:-0400
TZOFFSETTO:-0500
TZNAME:EST
DTSTART:20261101T060000
END:STANDARD
BEGIN:DAYLIGHT
TZOFFSETFROM:-0500
TZOFFSETTO:-0400
TZNAME:EDT
DTSTART:20270314T070000
END:DAYLIGHT
BEGIN:STANDARD
TZOFFSETFROM:-0400
TZOFFSETTO:-0500
TZNAME:EST
DTSTART:20271107T060000
END:STANDARD
END:VTIMEZONE
BEGIN:VEVENT
DTSTART;TZID=America/New_York:20260423T190000
DTEND;TZID=America/New_York:20260423T203000
DTSTAMP:20260423T064823
CREATED:20251230T191453Z
LAST-MODIFIED:20260205T153641Z
UID:3459-1776970800-1776976200@cobbgagensoc.org
SUMMARY:Writing SIG (Virtual)
DESCRIPTION:Writing SIG (4th Thursday of every other month virtually 7:00 – 8:30 pm ET) \nJoin us to learn the stages of creating\, developing\, revising\, and publicizing writing in genealogy\, from informal and personal reminiscences to articles and family histories. \nWriting SIG is currently on hiatus. Please check back later. \n  \n 
URL:https://cobbgagensoc.org/ccgs-event/writing-sig-4-23-2026/
LOCATION:Virtual
CATEGORIES:Special Interest groups
ATTACH;FMTTYPE=image/jpeg:https://cobbgagensoc.org/wp-content/uploads/2022/10/writing-SIG.jpg
END:VEVENT
BEGIN:VEVENT
DTSTART;TZID=America/New_York:20260428T190000
DTEND;TZID=America/New_York:20260428T203000
DTSTAMP:20260423T064823
CREATED:20251230T182219Z
LAST-MODIFIED:20260301T210302Z
UID:3418-1777402800-1777408200@cobbgagensoc.org
SUMMARY:General Meeting
DESCRIPTION:General Meeting \nTime: 7:00 – 8:30 pm ET \nLocation: First Presbyterian Church\, 189 Church Street\, Marietta\, GA 30060 \nTopic: Need Some Help? Ask an Expert \nDescription: \nFeeling stuck in your genealogy? Don’t know where to look for information or how to apply a method to your family? Think you are at a dead end? Join CCGS at our general meeting and get some help as we hold our annual “brick wall” program. General topics will include: Getting started & Genealogy Do Over; Vital records & related sources; Court\, federal\, & state records; and Online resources. Bring your questions/tough research problems and visit any or all of our roundtables for some assistance. \nFacilitators: CCGS Board Members
URL:https://cobbgagensoc.org/ccgs-event/general-meeting-4-28-2026/
LOCATION:First Presbyterian Church\, 189 Church Street\, Marietta\, GA\, 30060\, United States
CATEGORIES:Meetings
ATTACH;FMTTYPE=image/jpeg:https://cobbgagensoc.org/wp-content/uploads/2023/03/ccgs_monthly_meeting_image_bookcase_lightened_full_size.jpg
END:VEVENT
END:VCALENDAR