BEGIN:VCALENDAR
VERSION:2.0
PRODID:-//Cobb County Genealogical Society - ECPv6.15.20//NONSGML v1.0//EN
CALSCALE:GREGORIAN
METHOD:PUBLISH
X-WR-CALNAME:Cobb County Genealogical Society
X-ORIGINAL-URL:https://cobbgagensoc.org
X-WR-CALDESC:Events for Cobb County Genealogical Society
REFRESH-INTERVAL;VALUE=DURATION:PT1H
X-Robots-Tag:noindex
X-PUBLISHED-TTL:PT1H
BEGIN:VTIMEZONE
TZID:America/New_York
BEGIN:DAYLIGHT
TZOFFSETFROM:-0500
TZOFFSETTO:-0400
TZNAME:EDT
DTSTART:20230312T070000
END:DAYLIGHT
BEGIN:STANDARD
TZOFFSETFROM:-0400
TZOFFSETTO:-0500
TZNAME:EST
DTSTART:20231105T060000
END:STANDARD
BEGIN:DAYLIGHT
TZOFFSETFROM:-0500
TZOFFSETTO:-0400
TZNAME:EDT
DTSTART:20240310T070000
END:DAYLIGHT
BEGIN:STANDARD
TZOFFSETFROM:-0400
TZOFFSETTO:-0500
TZNAME:EST
DTSTART:20241103T060000
END:STANDARD
BEGIN:DAYLIGHT
TZOFFSETFROM:-0500
TZOFFSETTO:-0400
TZNAME:EDT
DTSTART:20250309T070000
END:DAYLIGHT
BEGIN:STANDARD
TZOFFSETFROM:-0400
TZOFFSETTO:-0500
TZNAME:EST
DTSTART:20251102T060000
END:STANDARD
END:VTIMEZONE
BEGIN:VEVENT
DTSTART;TZID=America/New_York:20240924T190000
DTEND;TZID=America/New_York:20240924T203000
DTSTAMP:20260424T200858
CREATED:20240517T205411Z
LAST-MODIFIED:20240817T193651Z
UID:2879-1727204400-1727209800@cobbgagensoc.org
SUMMARY:General Meeting (Virtual)
DESCRIPTION:Topic: Exploring Genealogical Resources from the Bureau of Refugees\, Freedmen\, and Abandoned Lands \nSpeaker: Dr. Shelley Viola Murphy \nDescription: In this session\, Dr. Murphy will delve into the valuable genealogical resources provided by the Bureau of Refugees\, Freedmen\, and Abandoned Lands\, commonly known as the Freedmen’s Bureau. Established after the Civil War\, the Bureau played a pivotal role in assisting newly freed African Americans by providing food\, housing\, education\, and legal support. For genealogists\, the records created by the Bureau offer a treasure trove of information\, including marriage records\, labor contracts\, and records of complaints and disputes\, all of which are invaluable for tracing African American ancestry during the Reconstruction era. This session will equip you with strategies to effectively navigate these challenges and maximize the potential of the Freedmen’s Bureau records in your genealogical research. \n\nBio: An avid genealogist for over 30+ years Dr. Murphy\, aka\, “familytreegirl” presents genealogy workshops at local\, state and national genealogy conferences. She holds membership in AAHGS NGS\, APG\, DAR\, and local genealogy groups. Murphy\, is known for her inspiring & interactive “SO WHAT” with genealogy research\, along with interesting problem-solving methodology lectures. Murphy is also a coordinator and instructor at the Midwest African American Genealogy Institute (MAAGI) and serves on the Boards of the Library of Virginia. Albemarle\, Charlottesville\, and Fluvanna Historical Societies. \n\nRegister HERE \n  \n 
URL:https://cobbgagensoc.org/ccgs-event/general-meeting-9-24/
LOCATION:Virtual
CATEGORIES:Meetings
ATTACH;FMTTYPE=image/jpeg:https://cobbgagensoc.org/wp-content/uploads/2023/03/ccgs_monthly_meeting_image_bookcase_lightened_full_size.jpg
END:VEVENT
END:VCALENDAR