BEGIN:VCALENDAR
VERSION:2.0
PRODID:-//Cobb County Genealogical Society - ECPv6.15.20//NONSGML v1.0//EN
CALSCALE:GREGORIAN
METHOD:PUBLISH
X-WR-CALNAME:Cobb County Genealogical Society
X-ORIGINAL-URL:https://cobbgagensoc.org
X-WR-CALDESC:Events for Cobb County Genealogical Society
REFRESH-INTERVAL;VALUE=DURATION:PT1H
X-Robots-Tag:noindex
X-PUBLISHED-TTL:PT1H
BEGIN:VTIMEZONE
TZID:America/New_York
BEGIN:DAYLIGHT
TZOFFSETFROM:-0500
TZOFFSETTO:-0400
TZNAME:EDT
DTSTART:20240310T070000
END:DAYLIGHT
BEGIN:STANDARD
TZOFFSETFROM:-0400
TZOFFSETTO:-0500
TZNAME:EST
DTSTART:20241103T060000
END:STANDARD
BEGIN:DAYLIGHT
TZOFFSETFROM:-0500
TZOFFSETTO:-0400
TZNAME:EDT
DTSTART:20250309T070000
END:DAYLIGHT
BEGIN:STANDARD
TZOFFSETFROM:-0400
TZOFFSETTO:-0500
TZNAME:EST
DTSTART:20251102T060000
END:STANDARD
BEGIN:DAYLIGHT
TZOFFSETFROM:-0500
TZOFFSETTO:-0400
TZNAME:EDT
DTSTART:20260308T070000
END:DAYLIGHT
BEGIN:STANDARD
TZOFFSETFROM:-0400
TZOFFSETTO:-0500
TZNAME:EST
DTSTART:20261101T060000
END:STANDARD
END:VTIMEZONE
BEGIN:VEVENT
DTSTART;TZID=America/New_York:20250923T190000
DTEND;TZID=America/New_York:20250923T203000
DTSTAMP:20260423T220143
CREATED:20241223T215956Z
LAST-MODIFIED:20250820T205321Z
UID:3044-1758654000-1758659400@cobbgagensoc.org
SUMMARY:General Meeting
DESCRIPTION:General Meeting \nTime: 7:00 – 8:30 pm ET \nTopic: Translating\, Transcribing\, and Summarizing Documents Using AI (Artificial Intelligence) \nLocation: Watch Party at First Presbyterian Church\, 189 Church Street\, Marietta\, GA \nDescription: Join us to watch the presentation with Thomas MacEntee. Networking and discussion opportunities will be available before and after the presentation. \nLearn how to harness the power of artificial intelligence to assist in translating\, transcribing\, and summarizing a variety of genealogy records. A handwritten baptismal record from the 1800s? No problem. A faded newspaper obituary? No problem. We’ll cover the best AI platforms as well as how to craft a solid prompt to get you the results you need. \nSpeaker: Thomas MacEntee \nThomas MacEntee is a Baby Boomer guy with a love of punk rock music but also art history who somehow “fell” into the technology industry almost 40 years ago\, and then left a lucrative IT career to pursue his love of family history and genealogy. Technology and historical research are opposites\, but “tech people” like Thomas are needed to guide today’s genealogists through the maze of options so they can deploy the best apps and devices to break down research brick walls. Thomas MacEntee: author\, educator\, advocate\, entrepreneur\, and that “genealogy guy” who helps you accomplish your family history goals. \nThomas MacEntee is a guy with a love of punk rock music but also art history who somehow “fell” into the technology industry years ago. He left a lucrative tech career to pursue his love of family history and genealogy. Technology and historical research seem like opposites\, but “tech people” like Thomas are needed to guide you through the maze of options so you can find your ancestors and bring their stories to life. \nVirtual Attendance Registration if you are unable to attend in-person: Click HERE
URL:https://cobbgagensoc.org/ccgs-event/general-meeting-9-23-25/
CATEGORIES:Meetings
ATTACH;FMTTYPE=image/jpeg:https://cobbgagensoc.org/wp-content/uploads/2023/03/ccgs_monthly_meeting_image_bookcase_lightened_full_size.jpg
END:VEVENT
END:VCALENDAR