BEGIN:VCALENDAR
VERSION:2.0
PRODID:-//Cobb County Genealogical Society - ECPv6.15.20//NONSGML v1.0//EN
CALSCALE:GREGORIAN
METHOD:PUBLISH
X-ORIGINAL-URL:https://cobbgagensoc.org
X-WR-CALDESC:Events for Cobb County Genealogical Society
REFRESH-INTERVAL;VALUE=DURATION:PT1H
X-Robots-Tag:noindex
X-PUBLISHED-TTL:PT1H
BEGIN:VTIMEZONE
TZID:America/New_York
BEGIN:DAYLIGHT
TZOFFSETFROM:-0500
TZOFFSETTO:-0400
TZNAME:EDT
DTSTART:20240310T070000
END:DAYLIGHT
BEGIN:STANDARD
TZOFFSETFROM:-0400
TZOFFSETTO:-0500
TZNAME:EST
DTSTART:20241103T060000
END:STANDARD
BEGIN:DAYLIGHT
TZOFFSETFROM:-0500
TZOFFSETTO:-0400
TZNAME:EDT
DTSTART:20250309T070000
END:DAYLIGHT
BEGIN:STANDARD
TZOFFSETFROM:-0400
TZOFFSETTO:-0500
TZNAME:EST
DTSTART:20251102T060000
END:STANDARD
BEGIN:DAYLIGHT
TZOFFSETFROM:-0500
TZOFFSETTO:-0400
TZNAME:EDT
DTSTART:20260308T070000
END:DAYLIGHT
BEGIN:STANDARD
TZOFFSETFROM:-0400
TZOFFSETTO:-0500
TZNAME:EST
DTSTART:20261101T060000
END:STANDARD
END:VTIMEZONE
BEGIN:VEVENT
DTSTART;TZID=America/New_York:20251028T190000
DTEND;TZID=America/New_York:20251028T203000
DTSTAMP:20260423T202158
CREATED:20241223T220046Z
LAST-MODIFIED:20250831T183707Z
UID:3045-1761678000-1761683400@cobbgagensoc.org
SUMMARY:General Meeting
DESCRIPTION:General Meeting \nTime: 7:00 – 8:30 pm ET \nLocation: First Presbyterian Church\, 189 Church Street\, Marietta\, GA 30060 \nTopic: Genealogy Resources at the Kenan Research Center\, Atlanta History Center \nDescription: Our program is designed to help you navigate the genealogy resources of the Atlanta History Center. The James G. Kenan Research Center is the research component of the Atlanta History Center’s exhibitions\, education\, and public programs. The 42\,000 square foot research center contains thousands of manuscript and photograph collections\, newspapers\, subject files\, and over 4\,000 published volumes pertaining to genealogy. \nSpeaker: Sue VerHoef \nSue VerHoef is Director of Oral History and Genealogy at the Atlanta History Center where she has worked since 2008. She manages the Center’s oral history initiatives including the Veterans History Project\, a collection of over 900 oral history interviews of veterans from World War II through the Global War on Terror. She is the curator of More Than Self: Living the Vietnam War\, an exhibition of oral histories\, photographs\, documents\, and artifacts from Vietnam veterans and civilians who served in their support. The exhibit was on display at the Atlanta History Center in 2017-2018 and is now available online. Sue creates and presents regularly scheduled genealogy workshops and programs and provides archives orientation tours for public school and university students and faculty. In 2015\, The National Academy of Television Arts and Sciences (NATAS) Southeast Chapter awarded her an Emmy for her contribution in the development of 37 Weeks: Sherman on the March\, which aired on Georgia Public Broadcasting. She is a graduate of Brigham Young University and the University of West Georgia.
URL:https://cobbgagensoc.org/ccgs-event/general-meeting-10-28-25/
LOCATION:First Presbyterian Church\, 189 Church Street\, Marietta\, GA\, 30060\, United States
CATEGORIES:Meetings
ATTACH;FMTTYPE=image/jpeg:https://cobbgagensoc.org/wp-content/uploads/2023/03/ccgs_monthly_meeting_image_bookcase_lightened_full_size.jpg
END:VEVENT
END:VCALENDAR