BEGIN:VCALENDAR
VERSION:2.0
PRODID:-//Cobb County Genealogical Society - ECPv6.15.20//NONSGML v1.0//EN
CALSCALE:GREGORIAN
METHOD:PUBLISH
X-WR-CALNAME:Cobb County Genealogical Society
X-ORIGINAL-URL:https://cobbgagensoc.org
X-WR-CALDESC:Events for Cobb County Genealogical Society
REFRESH-INTERVAL;VALUE=DURATION:PT1H
X-Robots-Tag:noindex
X-PUBLISHED-TTL:PT1H
BEGIN:VTIMEZONE
TZID:America/New_York
BEGIN:DAYLIGHT
TZOFFSETFROM:-0500
TZOFFSETTO:-0400
TZNAME:EDT
DTSTART:20250309T070000
END:DAYLIGHT
BEGIN:STANDARD
TZOFFSETFROM:-0400
TZOFFSETTO:-0500
TZNAME:EST
DTSTART:20251102T060000
END:STANDARD
BEGIN:DAYLIGHT
TZOFFSETFROM:-0500
TZOFFSETTO:-0400
TZNAME:EDT
DTSTART:20260308T070000
END:DAYLIGHT
BEGIN:STANDARD
TZOFFSETFROM:-0400
TZOFFSETTO:-0500
TZNAME:EST
DTSTART:20261101T060000
END:STANDARD
BEGIN:DAYLIGHT
TZOFFSETFROM:-0500
TZOFFSETTO:-0400
TZNAME:EDT
DTSTART:20270314T070000
END:DAYLIGHT
BEGIN:STANDARD
TZOFFSETFROM:-0400
TZOFFSETTO:-0500
TZNAME:EST
DTSTART:20271107T060000
END:STANDARD
END:VTIMEZONE
BEGIN:VEVENT
DTSTART;TZID=America/New_York:20260324T190000
DTEND;TZID=America/New_York:20260324T203000
DTSTAMP:20260423T115145
CREATED:20251230T182031Z
LAST-MODIFIED:20260301T205423Z
UID:3415-1774378800-1774384200@cobbgagensoc.org
SUMMARY:General Meeting
DESCRIPTION:General Meeting \nTime: 7:00 – 8:30 pm ET \nLocation: First Presbyterian Church\, 189 Church Street\, Marietta\, GA 30060 \nTopic: Sir James Wright and Colonial Ancestors \nDescription: \nGreg Booking uses the life and conflicted career of Sir James Wright (1716-1785) as a means to better understand the complex struggle for power in both colonial Georgia and the larger British Empire. \nJames Wright lived a transatlantic life\, taking advantage of every imperial opportunity afforded him. He earned numerous important government posts and amassed an incredible fortune\, totaling over £100\,000 sterling. An England-born grandson of Sir Robert Wright\, James Wright was raised in Charleston\, South Carolina\, following his father’s appointment as the chief justice of that colony. Young James served South Carolina in a number of capacities\, public and ecclesiastical\, prior to his admittance to London’s famed Gray’s Inn to study law. Most notably\, he was appointed South Carolina’s attorney general and colonial agent to London prior to becoming the governor of Georgia in 1761. \nWright’s long imperial career delicately balanced dual loyalties to Crown and colony and offers a new perspective on loyalism and the American Revolution. Through this lens\, Greg Brooking connects several important contexts in recent early American and British scholarship\, including imperial and Atlantic history\, Indigenous borderlands\, race and slavery\, and popular politics. \nHis presentation will include information on how to research Loyalist ancestors. \nSpeaker:  \nDr. Greg Brooking is an award-winning historian of early America\, the American Revolution\, and the colonial South. He received his PhD in History from Georgia State University and is the author of From Empire to Revolution: Sir James Wright and the Price of Loyalty in Georgia (University of Georgia Press\, 2024). He has taught high school and college since 1994\, joining the staff of North Springs High School (Atlanta\, Fulton County\, GA) in 2015. He is currently working on his second book\, Henry Laurens: A Southern Founder.
URL:https://cobbgagensoc.org/ccgs-event/general-meeting-3-24-2026/
LOCATION:First Presbyterian Church\, 189 Church Street\, Marietta\, GA\, 30060\, United States
CATEGORIES:Meetings
ATTACH;FMTTYPE=image/jpeg:https://cobbgagensoc.org/wp-content/uploads/2023/03/ccgs_monthly_meeting_image_bookcase_lightened_full_size.jpg
END:VEVENT
END:VCALENDAR