BEGIN:VCALENDAR
VERSION:2.0
PRODID:-//Cobb County Genealogical Society - ECPv6.15.20//NONSGML v1.0//EN
CALSCALE:GREGORIAN
METHOD:PUBLISH
X-WR-CALNAME:Cobb County Genealogical Society
X-ORIGINAL-URL:https://cobbgagensoc.org
X-WR-CALDESC:Events for Cobb County Genealogical Society
REFRESH-INTERVAL;VALUE=DURATION:PT1H
X-Robots-Tag:noindex
X-PUBLISHED-TTL:PT1H
BEGIN:VTIMEZONE
TZID:America/New_York
BEGIN:DAYLIGHT
TZOFFSETFROM:-0500
TZOFFSETTO:-0400
TZNAME:EDT
DTSTART:20230312T070000
END:DAYLIGHT
BEGIN:STANDARD
TZOFFSETFROM:-0400
TZOFFSETTO:-0500
TZNAME:EST
DTSTART:20231105T060000
END:STANDARD
BEGIN:DAYLIGHT
TZOFFSETFROM:-0500
TZOFFSETTO:-0400
TZNAME:EDT
DTSTART:20240310T070000
END:DAYLIGHT
BEGIN:STANDARD
TZOFFSETFROM:-0400
TZOFFSETTO:-0500
TZNAME:EST
DTSTART:20241103T060000
END:STANDARD
BEGIN:DAYLIGHT
TZOFFSETFROM:-0500
TZOFFSETTO:-0400
TZNAME:EDT
DTSTART:20250309T070000
END:DAYLIGHT
BEGIN:STANDARD
TZOFFSETFROM:-0400
TZOFFSETTO:-0500
TZNAME:EST
DTSTART:20251102T060000
END:STANDARD
END:VTIMEZONE
BEGIN:VEVENT
DTSTART;TZID=America/New_York:20240810T100000
DTEND;TZID=America/New_York:20240810T120000
DTSTAMP:20260424T213222
CREATED:20240521T161520Z
LAST-MODIFIED:20240806T195855Z
UID:2902-1723284000-1723291200@cobbgagensoc.org
SUMMARY:Let’s Do Something SIG (Virtual)
DESCRIPTION:Let’s Do Something SIG (2nd Saturday of each month: 10:00 am – Noon ET)\nDedicate two-hours for independent\, genealogy research each month. During the meeting\, attendees work independently\, but fellow researchers are available to offer suggestions if needed. \n10 August 2024 \nTime: 10:00 am – 12:00 pm ET \nLocation: Virtual \nRegister HERE \n 
URL:https://cobbgagensoc.org/ccgs-event/lets-do-something-sig-8-10/
LOCATION:Virtual
CATEGORIES:Special Interest groups
ATTACH;FMTTYPE=image/png:https://cobbgagensoc.org/wp-content/uploads/2022/10/lets_do_something_sig.png
END:VEVENT
BEGIN:VEVENT
DTSTART;TZID=America/New_York:20240820T190000
DTEND;TZID=America/New_York:20240820T210000
DTSTAMP:20260424T213222
CREATED:20240521T162923Z
LAST-MODIFIED:20240722T212924Z
UID:2920-1724180400-1724187600@cobbgagensoc.org
SUMMARY:DNA SIG (Virtual)
DESCRIPTION:DNA SIG (3rd Tuesday of each month: 7:00 – 9:00 pm ET)\nJoin us to explore the use of DNA testing in genealogy and gain a greater understanding of integrating DNA test results with traditional genealogical research. \n20 August 2024 \nTime: 7:00 – 9:00 pm ET \nLocation: Virtual \nRegister HERE \n  \n 
URL:https://cobbgagensoc.org/ccgs-event/dna-sig-8-20/
LOCATION:Virtual
CATEGORIES:Special Interest groups
ATTACH;FMTTYPE=image/jpeg:https://cobbgagensoc.org/wp-content/uploads/2022/12/dna-g81fee7659_640.jpg
END:VEVENT
BEGIN:VEVENT
DTSTART;TZID=America/New_York:20240822T190000
DTEND;TZID=America/New_York:20240822T203000
DTSTAMP:20260424T213222
CREATED:20240517T214450Z
LAST-MODIFIED:20240722T215745Z
UID:2895-1724353200-1724358600@cobbgagensoc.org
SUMMARY:Writing SIG (Virtual)
DESCRIPTION:Writing SIG (fourth Thursday of every other month virtually 7:00 – 8:30 pm ET (except December))\nJoin us to learn the stages of creating\, developing\, revising\, and publicizing writing in genealogy\, from informal and personal reminiscences to articles and family histories. \n22 August 2024 \nWriting SIG \nTime: 7:00 – 8:30 pm ET \nDescription: \nHow to continue and sustain your writing. Some ways to write an effective conclusion . For first time attendees or those who missed a previous meeting\, there will be a short review of previous lessons. \nLocation: Virtual \nRegister HERE \n 
URL:https://cobbgagensoc.org/ccgs-event/writing-sig-8-22/
LOCATION:Virtual
CATEGORIES:Special Interest groups
ATTACH;FMTTYPE=image/jpeg:https://cobbgagensoc.org/wp-content/uploads/2022/10/writing-SIG.jpg
END:VEVENT
END:VCALENDAR