BEGIN:VCALENDAR
VERSION:2.0
PRODID:-//Cobb County Genealogical Society - ECPv6.15.20//NONSGML v1.0//EN
CALSCALE:GREGORIAN
METHOD:PUBLISH
X-ORIGINAL-URL:https://cobbgagensoc.org
X-WR-CALDESC:Events for Cobb County Genealogical Society
REFRESH-INTERVAL;VALUE=DURATION:PT1H
X-Robots-Tag:noindex
X-PUBLISHED-TTL:PT1H
BEGIN:VTIMEZONE
TZID:America/New_York
BEGIN:DAYLIGHT
TZOFFSETFROM:-0500
TZOFFSETTO:-0400
TZNAME:EDT
DTSTART:20240310T070000
END:DAYLIGHT
BEGIN:STANDARD
TZOFFSETFROM:-0400
TZOFFSETTO:-0500
TZNAME:EST
DTSTART:20241103T060000
END:STANDARD
BEGIN:DAYLIGHT
TZOFFSETFROM:-0500
TZOFFSETTO:-0400
TZNAME:EDT
DTSTART:20250309T070000
END:DAYLIGHT
BEGIN:STANDARD
TZOFFSETFROM:-0400
TZOFFSETTO:-0500
TZNAME:EST
DTSTART:20251102T060000
END:STANDARD
BEGIN:DAYLIGHT
TZOFFSETFROM:-0500
TZOFFSETTO:-0400
TZNAME:EDT
DTSTART:20260308T070000
END:DAYLIGHT
BEGIN:STANDARD
TZOFFSETFROM:-0400
TZOFFSETTO:-0500
TZNAME:EST
DTSTART:20261101T060000
END:STANDARD
END:VTIMEZONE
BEGIN:VEVENT
DTSTART;TZID=America/New_York:20251009T190000
DTEND;TZID=America/New_York:20251009T203000
DTSTAMP:20260423T202148
CREATED:20241227T212957Z
LAST-MODIFIED:20250909T150012Z
UID:3108-1760036400-1760041800@cobbgagensoc.org
SUMMARY:Writing SIG (Virtual)
DESCRIPTION:Writing SIG (first Thursday of every other month virtually 7:00 – 8:30 pm ET (except December))\nThe Writing SIG promotes independent writing to tell your ancestor’s story. The facilitator will be available to provide information\, suggestions\, encouragement in helping with all stages of writing about genealogy. Join us with your ideas about writing\, plans for writing\, and written materials for discussion. \n9  Oct 2025 \nWriting SIG \nTime: 7:00 – 8:30 pm ET \nTopic: Set aside 1.5 hours to work on writing your genealogy story. \nLocation: Virtual \nRegister HERE \n  \n 
URL:https://cobbgagensoc.org/ccgs-event/writing-sig-10-9-25/
LOCATION:Virtual
CATEGORIES:Special Interest groups
ATTACH;FMTTYPE=image/jpeg:https://cobbgagensoc.org/wp-content/uploads/2022/10/writing-SIG.jpg
END:VEVENT
BEGIN:VEVENT
DTSTART;TZID=America/New_York:20251011T100000
DTEND;TZID=America/New_York:20251011T120000
DTSTAMP:20260423T202148
CREATED:20241227T215004Z
LAST-MODIFIED:20241227T215004Z
UID:3129-1760176800-1760184000@cobbgagensoc.org
SUMMARY:Let’s Do Something SIG (Virtual)
DESCRIPTION:Let’s Do Something SIG (2nd Saturday of each month: 10:00 am – Noon ET)\nDedicate two-hours for independent\, genealogy research each month. During the meeting\, attendees work independently\, but fellow researchers are available to offer suggestions if needed. \n11 October 2025\n \nTime: 10:00 am – 12:00 pm ET \nLocation: Virtual \nTopic: Set aside 2 hours to work on your own genealogy. Fellow researchers are available to offer suggestions if you need assistance. \nRegister HERE \n  \n 
URL:https://cobbgagensoc.org/ccgs-event/lets-do-something-sig-10-11-25/
LOCATION:Virtual
CATEGORIES:Special Interest groups
ATTACH;FMTTYPE=image/png:https://cobbgagensoc.org/wp-content/uploads/2023/01/lets_do_something_sig_3.fw_.png
END:VEVENT
BEGIN:VEVENT
DTSTART;TZID=America/New_York:20251021T190000
DTEND;TZID=America/New_York:20251021T210000
DTSTAMP:20260423T202148
CREATED:20241227T203339Z
LAST-MODIFIED:20241227T203822Z
UID:3076-1761073200-1761080400@cobbgagensoc.org
SUMMARY:DNA SIG (Virtual)
DESCRIPTION:DNA SIG (3rd Tuesday of each month: 7:00 – 9:00 pm ET)\nJoin us to explore the use of DNA testing in genealogy and gain a greater understanding of integrating DNA test results with traditional genealogical research. \n21 October\, 2025 \nTime: 7:00 – 9:00 pm ET \nLocation: Virtual \nTopic: TBA\nRegister HERE \n  \n  \n  \n 
URL:https://cobbgagensoc.org/ccgs-event/dna-sig-10-21-25/
LOCATION:Virtual
CATEGORIES:Special Interest groups
ATTACH;FMTTYPE=image/jpeg:https://cobbgagensoc.org/wp-content/uploads/2022/12/dna-g81fee7659_640.jpg
END:VEVENT
END:VCALENDAR