BEGIN:VCALENDAR
VERSION:2.0
PRODID:-//Cobb County Genealogical Society - ECPv6.15.20//NONSGML v1.0//EN
CALSCALE:GREGORIAN
METHOD:PUBLISH
X-ORIGINAL-URL:https://cobbgagensoc.org
X-WR-CALDESC:Events for Cobb County Genealogical Society
REFRESH-INTERVAL;VALUE=DURATION:PT1H
X-Robots-Tag:noindex
X-PUBLISHED-TTL:PT1H
BEGIN:VTIMEZONE
TZID:America/New_York
BEGIN:DAYLIGHT
TZOFFSETFROM:-0500
TZOFFSETTO:-0400
TZNAME:EDT
DTSTART:20250309T070000
END:DAYLIGHT
BEGIN:STANDARD
TZOFFSETFROM:-0400
TZOFFSETTO:-0500
TZNAME:EST
DTSTART:20251102T060000
END:STANDARD
BEGIN:DAYLIGHT
TZOFFSETFROM:-0500
TZOFFSETTO:-0400
TZNAME:EDT
DTSTART:20260308T070000
END:DAYLIGHT
BEGIN:STANDARD
TZOFFSETFROM:-0400
TZOFFSETTO:-0500
TZNAME:EST
DTSTART:20261101T060000
END:STANDARD
BEGIN:DAYLIGHT
TZOFFSETFROM:-0500
TZOFFSETTO:-0400
TZNAME:EDT
DTSTART:20270314T070000
END:DAYLIGHT
BEGIN:STANDARD
TZOFFSETFROM:-0400
TZOFFSETTO:-0500
TZNAME:EST
DTSTART:20271107T060000
END:STANDARD
END:VTIMEZONE
BEGIN:VEVENT
DTSTART;TZID=America/New_York:20260103T110000
DTEND;TZID=America/New_York:20260103T130000
DTSTAMP:20260423T151339
CREATED:20251226T201959Z
LAST-MODIFIED:20251227T201918Z
UID:3370-1767438000-1767445200@cobbgagensoc.org
SUMMARY:Technology & Genealogy SIG
DESCRIPTION:Technology & Genealogy SIG (1st Saturday every other month: 11:00 am – 1:00 pm ET)\nJoin us to learn about software (both office productivity and genealogy)\, tools\, and products related to all aspects of genealogical methodology\, organization\, and research. \n3 January 2026\n \nTopic: Organizing Workshop – bring your laptop to work on organizing your digital files \nLocation: Georgia Room\, Switzer Library\, 266 Roswell St NE\, Marietta\, GA 30060
URL:https://cobbgagensoc.org/ccgs-event/technology-genealogy-sig-1-3-2026/
LOCATION:Georgia Room\, Switzer Library\, 266 Roswell Street\, Marietta\, GA\, United States
CATEGORIES:Special Interest groups
ATTACH;FMTTYPE=image/jpeg:https://cobbgagensoc.org/wp-content/uploads/2022/12/business-ga075aff62_640.jpg
END:VEVENT
BEGIN:VEVENT
DTSTART;TZID=America/New_York:20260110T100000
DTEND;TZID=America/New_York:20260110T120000
DTSTAMP:20260423T151339
CREATED:20251226T202425Z
LAST-MODIFIED:20251226T203322Z
UID:3372-1768039200-1768046400@cobbgagensoc.org
SUMMARY:Let’s Do Something SIG (Virtual)
DESCRIPTION:Let’s Do Something SIG (2nd Saturday of each month: 10:00 am – Noon ET)\nDedicate two-hours for independent\, genealogy research each month. During the meeting\, attendees work independently\, but fellow researchers are available to offer suggestions if needed. \n10 January 2026\n \nTime: 10:00 am – 12:00 pm ET \nLocation: Virtual \nTopic: Set aside 2 hours to work on your own genealogy. Fellow researchers are available to offer suggestions if you need assistance. \nRegister HERE \n  \n 
URL:https://cobbgagensoc.org/ccgs-event/lets-do-something-sig-12-13-25-2/
LOCATION:Virtual
CATEGORIES:Special Interest groups
ATTACH;FMTTYPE=image/png:https://cobbgagensoc.org/wp-content/uploads/2023/01/lets_do_something_sig_3.fw_.png
END:VEVENT
BEGIN:VEVENT
DTSTART;TZID=America/New_York:20260120T190000
DTEND;TZID=America/New_York:20260120T210000
DTSTAMP:20260423T151339
CREATED:20251226T203145Z
LAST-MODIFIED:20251226T203226Z
UID:3375-1768935600-1768942800@cobbgagensoc.org
SUMMARY:DNA SIG (Virtual)
DESCRIPTION:DNA SIG (3rd Tuesday of each month: 7:00 – 9:00 pm ET)\nJoin us to explore the use of DNA testing in genealogy and gain a greater understanding of integrating DNA test results with traditional genealogical research. \n20 January 2026 \nTime: 7:00 – 9:00 pm ET \nLocation: Virtual \nTopic: TBA\nRegister HERE \n  \n  \n  \n 
URL:https://cobbgagensoc.org/ccgs-event/dna-sig-10-21-25-2/
LOCATION:Virtual
CATEGORIES:Special Interest groups
ATTACH;FMTTYPE=image/jpeg:https://cobbgagensoc.org/wp-content/uploads/2022/12/dna-g81fee7659_640.jpg
END:VEVENT
END:VCALENDAR