BEGIN:VCALENDAR
VERSION:2.0
PRODID:-//Cobb County Genealogical Society - ECPv6.15.20//NONSGML v1.0//EN
CALSCALE:GREGORIAN
METHOD:PUBLISH
X-WR-CALNAME:Cobb County Genealogical Society
X-ORIGINAL-URL:https://cobbgagensoc.org
X-WR-CALDESC:Events for Cobb County Genealogical Society
REFRESH-INTERVAL;VALUE=DURATION:PT1H
X-Robots-Tag:noindex
X-PUBLISHED-TTL:PT1H
BEGIN:VTIMEZONE
TZID:America/New_York
BEGIN:DAYLIGHT
TZOFFSETFROM:-0500
TZOFFSETTO:-0400
TZNAME:EDT
DTSTART:20250309T070000
END:DAYLIGHT
BEGIN:STANDARD
TZOFFSETFROM:-0400
TZOFFSETTO:-0500
TZNAME:EST
DTSTART:20251102T060000
END:STANDARD
BEGIN:DAYLIGHT
TZOFFSETFROM:-0500
TZOFFSETTO:-0400
TZNAME:EDT
DTSTART:20260308T070000
END:DAYLIGHT
BEGIN:STANDARD
TZOFFSETFROM:-0400
TZOFFSETTO:-0500
TZNAME:EST
DTSTART:20261101T060000
END:STANDARD
BEGIN:DAYLIGHT
TZOFFSETFROM:-0500
TZOFFSETTO:-0400
TZNAME:EDT
DTSTART:20270314T070000
END:DAYLIGHT
BEGIN:STANDARD
TZOFFSETFROM:-0400
TZOFFSETTO:-0500
TZNAME:EST
DTSTART:20271107T060000
END:STANDARD
END:VTIMEZONE
BEGIN:VEVENT
DTSTART;TZID=America/New_York:20260212T190000
DTEND;TZID=America/New_York:20260212T203000
DTSTAMP:20260423T133905
CREATED:20251226T204209Z
LAST-MODIFIED:20251227T200826Z
UID:3383-1770922800-1770928200@cobbgagensoc.org
SUMMARY:Photography and Genealogy SIG
DESCRIPTION:Photography & Genealogy SIG (2nd Thursday with quarterly dates to be determined)\nJoin to explore using photography to enhance your genealogy research. Current topics of interest include: AI and genealogy photo collections\, photography and GPS\, genealogical clues using post cards\, etc. \n12 February 2026 \nTopic: Incorporating Photos into Your Genealogy Research \nDescription: Join us to learn various techniques for incorporating your photos into your genealogy research. \nRegister HERE
URL:https://cobbgagensoc.org/ccgs-event/photography-and-genealogy-sig-12-11-25-2/
LOCATION:Virtual
CATEGORIES:Special Interest groups
ATTACH;FMTTYPE=image/jpeg:https://cobbgagensoc.org/wp-content/uploads/2022/12/antique-1863896_640.jpg
END:VEVENT
BEGIN:VEVENT
DTSTART;TZID=America/New_York:20260214T100000
DTEND;TZID=America/New_York:20260214T120000
DTSTAMP:20260423T133905
CREATED:20251226T203452Z
LAST-MODIFIED:20251226T203452Z
UID:3379-1771063200-1771070400@cobbgagensoc.org
SUMMARY:Let’s Do Something SIG (Virtual) (copy)
DESCRIPTION:Let’s Do Something SIG (2nd Saturday of each month: 10:00 am – Noon ET)\nDedicate two-hours for independent\, genealogy research each month. During the meeting\, attendees work independently\, but fellow researchers are available to offer suggestions if needed. \n14 February 2026\n \nTime: 10:00 am – 12:00 pm ET \nLocation: Virtual \nTopic: Set aside 2 hours to work on your own genealogy. Fellow researchers are available to offer suggestions if you need assistance. \nRegister HERE \n  \n 
URL:https://cobbgagensoc.org/ccgs-event/lets-do-something-sig-12-13-25-2-2/
LOCATION:Virtual
CATEGORIES:Special Interest groups
ATTACH;FMTTYPE=image/png:https://cobbgagensoc.org/wp-content/uploads/2023/01/lets_do_something_sig_3.fw_.png
END:VEVENT
BEGIN:VEVENT
DTSTART;TZID=America/New_York:20260217T190000
DTEND;TZID=America/New_York:20260217T210000
DTSTAMP:20260423T133905
CREATED:20251226T204357Z
LAST-MODIFIED:20260208T204409Z
UID:3385-1771354800-1771362000@cobbgagensoc.org
SUMMARY:DNA SIG (Virtual)
DESCRIPTION:DNA SIG (3rd Tuesday of each month: 7:00 – 9:00 pm ET)\nJoin us to explore the use of DNA testing in genealogy and gain a greater understanding of integrating DNA test results with traditional genealogical research. Every other month\, beginning February 2026\, working meetings will follow the Research Like a Pro with DNA process. \n17 February 2026 \nTime: 7:00 – 9:00 pm ET \nLocation: Virtual \nTopic: Research Like a Pro with DNA – Chapters 1 and 2\nRegister HERE \n  \n  \n  \n 
URL:https://cobbgagensoc.org/ccgs-event/dna-sig-10-21-25-2-2/
LOCATION:Virtual
CATEGORIES:Special Interest groups
ATTACH;FMTTYPE=image/jpeg:https://cobbgagensoc.org/wp-content/uploads/2022/12/dna-g81fee7659_640.jpg
END:VEVENT
BEGIN:VEVENT
DTSTART;TZID=America/New_York:20260226T190000
DTEND;TZID=America/New_York:20260226T203000
DTSTAMP:20260423T133905
CREATED:20251226T205803Z
LAST-MODIFIED:20260205T153238Z
UID:3389-1772132400-1772137800@cobbgagensoc.org
SUMMARY:Writing SIG (Virtual)
DESCRIPTION:Writing SIG (4th Thursday of every other month virtually 7:00 – 8:30 pm ET)\nJoin us to learn the stages of creating\, developing\, revising\, and publicizing writing in genealogy\, from informal and personal reminiscences to articles and family histories. \n26 February 2026 – CANCELLED \n  \n 
URL:https://cobbgagensoc.org/ccgs-event/writing-sig-12-4-25-2/
LOCATION:Virtual
CATEGORIES:Special Interest groups
ATTACH;FMTTYPE=image/jpeg:https://cobbgagensoc.org/wp-content/uploads/2022/10/writing-SIG.jpg
END:VEVENT
END:VCALENDAR