BEGIN:VCALENDAR
VERSION:2.0
PRODID:-//Cobb County Genealogical Society - ECPv6.15.20//NONSGML v1.0//EN
CALSCALE:GREGORIAN
METHOD:PUBLISH
X-WR-CALNAME:Cobb County Genealogical Society
X-ORIGINAL-URL:https://cobbgagensoc.org
X-WR-CALDESC:Events for Cobb County Genealogical Society
REFRESH-INTERVAL;VALUE=DURATION:PT1H
X-Robots-Tag:noindex
X-PUBLISHED-TTL:PT1H
BEGIN:VTIMEZONE
TZID:America/New_York
BEGIN:DAYLIGHT
TZOFFSETFROM:-0500
TZOFFSETTO:-0400
TZNAME:EDT
DTSTART:20250309T070000
END:DAYLIGHT
BEGIN:STANDARD
TZOFFSETFROM:-0400
TZOFFSETTO:-0500
TZNAME:EST
DTSTART:20251102T060000
END:STANDARD
BEGIN:DAYLIGHT
TZOFFSETFROM:-0500
TZOFFSETTO:-0400
TZNAME:EDT
DTSTART:20260308T070000
END:DAYLIGHT
BEGIN:STANDARD
TZOFFSETFROM:-0400
TZOFFSETTO:-0500
TZNAME:EST
DTSTART:20261101T060000
END:STANDARD
BEGIN:DAYLIGHT
TZOFFSETFROM:-0500
TZOFFSETTO:-0400
TZNAME:EDT
DTSTART:20270314T070000
END:DAYLIGHT
BEGIN:STANDARD
TZOFFSETFROM:-0400
TZOFFSETTO:-0500
TZNAME:EST
DTSTART:20271107T060000
END:STANDARD
END:VTIMEZONE
BEGIN:VEVENT
DTSTART;TZID=America/New_York:20260905T110000
DTEND;TZID=America/New_York:20260905T130000
DTSTAMP:20260423T183342
CREATED:20251230T190445Z
LAST-MODIFIED:20251230T190545Z
UID:3452-1788606000-1788613200@cobbgagensoc.org
SUMMARY:Technology & Genealogy SIG
DESCRIPTION:Technology & Genealogy SIG (1st Saturday every other month: 11:00 am – 1:00 pm ET) \nJoin us to learn about software (both office productivity and genealogy)\, tools\, and products related to all aspects of genealogical methodology\, organization\, and research. \n5 Sept 2026 \nTime: 11:00 am – 1:00 pm ET \nLocation: Georgia Room\, Switzer Library\, 266 Roswell St NE\, Marietta\, GA 30060 \nTopic: SAVE THE DATE \n 
URL:https://cobbgagensoc.org/ccgs-event/technology-genealogy-sig-9-5-2026-2/
LOCATION:Georgia Room\, Switzer Library\, 266 Roswell Street\, Marietta\, GA\, United States
CATEGORIES:Special Interest groups
ATTACH;FMTTYPE=image/jpeg:https://cobbgagensoc.org/wp-content/uploads/2022/12/business-ga075aff62_640.jpg
END:VEVENT
BEGIN:VEVENT
DTSTART;TZID=America/New_York:20260910T190000
DTEND;TZID=America/New_York:20260910T203000
DTSTAMP:20260423T183342
CREATED:20251230T185304Z
LAST-MODIFIED:20251230T185304Z
UID:3446-1789066800-1789072200@cobbgagensoc.org
SUMMARY:Photography and Genealogy SIG
DESCRIPTION:Photography & Genealogy SIG (2nd Thursday with quarterly dates to be determined)\nJoin to explore using photography to enhance your genealogy research. Current topics of interest include: AI and genealogy photo collections\, photography and GPS\, genealogical clues using post cards\, etc. \n10 Sept 2026 \nTime: 7:00 – 8:30 pm ET \nLocation: Virtual \nTopic: Using Photography and GPS to Determine Locations \nDescription: Join us to learn various techniques for determining the location associated with your photographs. \n 
URL:https://cobbgagensoc.org/ccgs-event/photography-and-genealogy-sig-9-10-26/
LOCATION:Virtual
CATEGORIES:Special Interest groups
ATTACH;FMTTYPE=image/jpeg:https://cobbgagensoc.org/wp-content/uploads/2022/12/antique-1863896_640.jpg
END:VEVENT
BEGIN:VEVENT
DTSTART;TZID=America/New_York:20260912T100000
DTEND;TZID=America/New_York:20260912T120000
DTSTAMP:20260423T183342
CREATED:20251230T193211Z
LAST-MODIFIED:20260108T202122Z
UID:3472-1789207200-1789214400@cobbgagensoc.org
SUMMARY:Let's Do Something SIG
DESCRIPTION:Let’s Do Something SIG (2nd Saturday of each month: 10:00 am – Noon ET)\nDedicate two-hours for independent\, genealogy research each month. During the meeting\, attendees work independently\, but fellow researchers are available to offer suggestions if needed. \n12 September 2026 \nTime: 10:00 am – 12:00 pm ET \nLocation: Virtual \nTopic: Set aside 2 hours to work on your own genealogy. Fellow researchers are available to offer suggestions if you need assistance.
URL:https://cobbgagensoc.org/ccgs-event/lets-do-something-sig-9-12-26/
CATEGORIES:Special Interest groups
ATTACH;FMTTYPE=image/png:https://cobbgagensoc.org/wp-content/uploads/2023/01/lets_do_something_sig_3.fw_.png
END:VEVENT
BEGIN:VEVENT
DTSTART;TZID=America/New_York:20260915T190000
DTEND;TZID=America/New_York:20260915T210000
DTSTAMP:20260423T183342
CREATED:20251230T195838Z
LAST-MODIFIED:20251230T195838Z
UID:3482-1789498800-1789506000@cobbgagensoc.org
SUMMARY:DNA SIG (Virtual)
DESCRIPTION:DNA SIG (3rd Tuesday of each month: 7:00 – 9:00 pm ET)\nJoin us to explore the use of DNA testing in genealogy and gain a greater understanding of integrating DNA test results with traditional genealogical research. \n15 Sept 2026 \nTime: 7:00 – 9:00 pm ET \nLocation: Virtual \nTopic: SAVE THE DATE – More details coming soon! \n  \n  \n  \n 
URL:https://cobbgagensoc.org/ccgs-event/dna-sig-9-15-26/
LOCATION:Virtual
CATEGORIES:Special Interest groups
ATTACH;FMTTYPE=image/jpeg:https://cobbgagensoc.org/wp-content/uploads/2022/12/dna-g81fee7659_640.jpg
END:VEVENT
END:VCALENDAR