BEGIN:VCALENDAR
VERSION:2.0
PRODID:-//Cobb County Genealogical Society - ECPv6.15.20//NONSGML v1.0//EN
CALSCALE:GREGORIAN
METHOD:PUBLISH
X-WR-CALNAME:Cobb County Genealogical Society
X-ORIGINAL-URL:https://cobbgagensoc.org
X-WR-CALDESC:Events for Cobb County Genealogical Society
REFRESH-INTERVAL;VALUE=DURATION:PT1H
X-Robots-Tag:noindex
X-PUBLISHED-TTL:PT1H
BEGIN:VTIMEZONE
TZID:America/New_York
BEGIN:DAYLIGHT
TZOFFSETFROM:-0500
TZOFFSETTO:-0400
TZNAME:EDT
DTSTART:20220313T070000
END:DAYLIGHT
BEGIN:STANDARD
TZOFFSETFROM:-0400
TZOFFSETTO:-0500
TZNAME:EST
DTSTART:20221106T060000
END:STANDARD
BEGIN:DAYLIGHT
TZOFFSETFROM:-0500
TZOFFSETTO:-0400
TZNAME:EDT
DTSTART:20230312T070000
END:DAYLIGHT
BEGIN:STANDARD
TZOFFSETFROM:-0400
TZOFFSETTO:-0500
TZNAME:EST
DTSTART:20231105T060000
END:STANDARD
BEGIN:DAYLIGHT
TZOFFSETFROM:-0500
TZOFFSETTO:-0400
TZNAME:EDT
DTSTART:20240310T070000
END:DAYLIGHT
BEGIN:STANDARD
TZOFFSETFROM:-0400
TZOFFSETTO:-0500
TZNAME:EST
DTSTART:20241103T060000
END:STANDARD
END:VTIMEZONE
BEGIN:VEVENT
DTSTART;TZID=America/New_York:20230909T100000
DTEND;TZID=America/New_York:20230909T120000
DTSTAMP:20260425T201021
CREATED:20230724T214932Z
LAST-MODIFIED:20230817T231335Z
UID:2647-1694253600-1694260800@cobbgagensoc.org
SUMMARY:Let’s Do Something SIG
DESCRIPTION:Let’s Do Something SIG (2nd Saturday of each month: 10:00 am – Noon ET)\nDedicate two-hours for independent\, genealogy research each month. During the meeting\, attendees work independently\, but fellow researchers are available to offer suggestions if needed. \n9 September 2023 \nTime: 10:00 am – 12:00 pm ET\nLocation: Virtual\nRegister HERE
URL:https://cobbgagensoc.org/ccgs-event/lets-do-something-sig-9/
LOCATION:Virtual
CATEGORIES:Special Interest groups
ATTACH;FMTTYPE=image/png:https://cobbgagensoc.org/wp-content/uploads/2022/10/lets_do_something_sig.png
END:VEVENT
BEGIN:VEVENT
DTSTART;TZID=America/New_York:20230912T190000
DTEND;TZID=America/New_York:20230912T210000
DTSTAMP:20260425T201021
CREATED:20230724T214556Z
LAST-MODIFIED:20230817T230134Z
UID:2643-1694545200-1694552400@cobbgagensoc.org
SUMMARY:DNA SIG
DESCRIPTION:Join us to explore the use of DNA testing in genealogy and gain a greater understanding of integrating DNA test results with traditional genealogical research.\nTime: 7:00 – 9:00 pm ET\nLocation: Virtual\nRegister HERE
URL:https://cobbgagensoc.org/ccgs-event/dna-sig-7/
LOCATION:Virtual
CATEGORIES:Special Interest groups
ATTACH;FMTTYPE=image/jpeg:https://cobbgagensoc.org/wp-content/uploads/2022/12/dna-g81fee7659_640.jpg
END:VEVENT
BEGIN:VEVENT
DTSTART;TZID=America/New_York:20230916T100000
DTEND;TZID=America/New_York:20230916T123000
DTSTAMP:20260425T201021
CREATED:20230724T220153Z
LAST-MODIFIED:20230907T143938Z
UID:2664-1694858400-1694867400@cobbgagensoc.org
SUMMARY:Photography and Genealogy SIG
DESCRIPTION:Photography and Genealogy SIG (2nd  Thursday with quarterly dates to be determined)\nThe Photography & Genealogy SIG focuses on using photography for genealogy. This SIG offers quarterly meetings that are in-person or virtual. \nJoin us for the Great Genealogy Shootout! You will be given a list of 6 – 8 general topics and then have 2 hours to travel around Cobb County taking pictures of genealogy related items that can fit into one or more categories. We will meet afterwards for lunch to discuss our pictures. \n16 September 2023 \nTime: 10:00 am – 12:30 pm ET\nLocation: First Presbyterian Church
URL:https://cobbgagensoc.org/ccgs-event/photography-and-genealogy-sig/
LOCATION:First Presbyterian Church\, 189 Church Street\, Marietta\, GA\, 30060\, United States
CATEGORIES:Special Interest groups
ATTACH;FMTTYPE=image/jpeg:https://cobbgagensoc.org/wp-content/uploads/2022/12/antique-1863896_640.jpg
END:VEVENT
BEGIN:VEVENT
DTSTART;TZID=America/New_York:20230926T190000
DTEND;TZID=America/New_York:20230926T203000
DTSTAMP:20260425T201021
CREATED:20230724T212750Z
LAST-MODIFIED:20230907T144229Z
UID:2630-1695754800-1695760200@cobbgagensoc.org
SUMMARY:Georgia Room Resources - General Meeting
DESCRIPTION:September 26 @ 7:00 – 8:15 pm ET (Hybrid)\nFirst Presbyterian Church\, 189 Church Street\, Marietta\, GA\nTopic: Georgia Room Resources\nSpeaker: Cole Hale
URL:https://cobbgagensoc.org/ccgs-event/georgia-room-resources-dive-deep/
LOCATION:First Presbyterian Church\, 189 Church Street\, Marietta\, GA\, 30060\, United States
CATEGORIES:Meetings
ATTACH;FMTTYPE=image/jpeg:https://cobbgagensoc.org/wp-content/uploads/2023/03/ccgs_monthly_meeting_image_bookcase_lightened_full_size.jpg
END:VEVENT
BEGIN:VEVENT
DTSTART;TZID=America/New_York:20230928T190000
DTEND;TZID=America/New_York:20230928T203000
DTSTAMP:20260425T201021
CREATED:20230724T220623Z
LAST-MODIFIED:20230724T220623Z
UID:2671-1695927600-1695933000@cobbgagensoc.org
SUMMARY:Writing SIG
DESCRIPTION:Writing SIG (last Thursday every month virtually – 7:00 – 8:30 pm ET (except December))\nJoin us to learn the stages of creating\, developing\, revising\, and publicizing writing in genealogy\, from informal and personal reminiscences to articles and family histories. \nDate:28 September 2023\nWriting SIG\nTime: 7:00 – 8:30 pm ET\nLocation: Virtual\nRegister HERE
URL:https://cobbgagensoc.org/ccgs-event/writing-sig-8/
LOCATION:Virtual
CATEGORIES:Special Interest groups
ATTACH;FMTTYPE=image/jpeg:https://cobbgagensoc.org/wp-content/uploads/2022/10/writing-SIG.jpg
END:VEVENT
END:VCALENDAR