BEGIN:VCALENDAR
VERSION:2.0
PRODID:-//Cobb County Genealogical Society - ECPv6.15.20//NONSGML v1.0//EN
CALSCALE:GREGORIAN
METHOD:PUBLISH
X-ORIGINAL-URL:https://cobbgagensoc.org
X-WR-CALDESC:Events for Cobb County Genealogical Society
REFRESH-INTERVAL;VALUE=DURATION:PT1H
X-Robots-Tag:noindex
X-PUBLISHED-TTL:PT1H
BEGIN:VTIMEZONE
TZID:America/New_York
BEGIN:DAYLIGHT
TZOFFSETFROM:-0500
TZOFFSETTO:-0400
TZNAME:EDT
DTSTART:20220313T070000
END:DAYLIGHT
BEGIN:STANDARD
TZOFFSETFROM:-0400
TZOFFSETTO:-0500
TZNAME:EST
DTSTART:20221106T060000
END:STANDARD
BEGIN:DAYLIGHT
TZOFFSETFROM:-0500
TZOFFSETTO:-0400
TZNAME:EDT
DTSTART:20230312T070000
END:DAYLIGHT
BEGIN:STANDARD
TZOFFSETFROM:-0400
TZOFFSETTO:-0500
TZNAME:EST
DTSTART:20231105T060000
END:STANDARD
BEGIN:DAYLIGHT
TZOFFSETFROM:-0500
TZOFFSETTO:-0400
TZNAME:EDT
DTSTART:20240310T070000
END:DAYLIGHT
BEGIN:STANDARD
TZOFFSETFROM:-0400
TZOFFSETTO:-0500
TZNAME:EST
DTSTART:20241103T060000
END:STANDARD
END:VTIMEZONE
BEGIN:VEVENT
DTSTART;TZID=America/New_York:20231014T100000
DTEND;TZID=America/New_York:20231014T120000
DTSTAMP:20260425T182357
CREATED:20230724T214829Z
LAST-MODIFIED:20230817T231329Z
UID:2645-1697277600-1697284800@cobbgagensoc.org
SUMMARY:Let’s Do Something SIG
DESCRIPTION:Let’s Do Something SIG (2nd Saturday of each month: 10:00 am – Noon ET)\nDedicate two-hours for independent\, genealogy research each month. During the meeting\, attendees work independently\, but fellow researchers are available to offer suggestions if needed. \n14 October 2023 \nTime: 10:00 am – 12:00 pm ET\nLocation: Virtual\nRegister HERE
URL:https://cobbgagensoc.org/ccgs-event/lets-do-something-sig-8/
LOCATION:Virtual
CATEGORIES:Special Interest groups
ATTACH;FMTTYPE=image/png:https://cobbgagensoc.org/wp-content/uploads/2022/10/lets_do_something_sig.png
END:VEVENT
BEGIN:VEVENT
DTSTART;TZID=America/New_York:20231017T190000
DTEND;TZID=America/New_York:20231017T210000
DTSTAMP:20260425T182357
CREATED:20230724T214225Z
LAST-MODIFIED:20230724T215128Z
UID:2639-1697569200-1697576400@cobbgagensoc.org
SUMMARY:DNA SIG
DESCRIPTION:Join us to explore the use of DNA testing in genealogy and gain a greater understanding of integrating DNA test results with traditional genealogical research.\nTime: 7:00 – 9:00 pm ET\nLocation: Virtual\nRegister HERE
URL:https://cobbgagensoc.org/ccgs-event/dna-sig-6/
LOCATION:Virtual
CATEGORIES:Special Interest groups
ATTACH;FMTTYPE=image/jpeg:https://cobbgagensoc.org/wp-content/uploads/2022/12/dna-g81fee7659_640.jpg
END:VEVENT
BEGIN:VEVENT
DTSTART;TZID=America/New_York:20231024T190000
DTEND;TZID=America/New_York:20231024T201500
DTSTAMP:20260425T182357
CREATED:20230817T230730Z
LAST-MODIFIED:20231011T200659Z
UID:2689-1698174000-1698178500@cobbgagensoc.org
SUMMARY:Atlanta's Historic Westview Cemetery - General Meeting
DESCRIPTION:General Meeting\nOctober 24 @ 7:00 – 8:15 pm ET (Hybrid)\nFirst Presbyterian Church\, 189 Church Street\, Marietta\, GA \nTopic: The History of Westview Cemetery. \nSpeaker: Jeff Clemmons\nJeff Clemmons is the Director of Administration for the Westview Cemetery. He has a degree in business administration from Reinhardt University and a degree in creative writing and theater from Georgia State University. He has published two books\, one being on the Westview Cemetery and Rich’s: A Southern Institution.
URL:https://cobbgagensoc.org/ccgs-event/the-history-of-westview-cemetary-general-meeting/
LOCATION:First Presbyterian Church\, 189 Church Street\, Marietta\, GA\, 30060\, United States
CATEGORIES:Meetings
ATTACH;FMTTYPE=image/jpeg:https://cobbgagensoc.org/wp-content/uploads/2023/03/ccgs_monthly_meeting_image_bookcase_lightened_full_size.jpg
END:VEVENT
BEGIN:VEVENT
DTSTART;TZID=America/New_York:20231026T190000
DTEND;TZID=America/New_York:20231026T203000
DTSTAMP:20260425T182357
CREATED:20230724T220519Z
LAST-MODIFIED:20230724T220519Z
UID:2669-1698346800-1698352200@cobbgagensoc.org
SUMMARY:Writing SIG
DESCRIPTION:Writing SIG (last Thursday every month virtually – 7:00 – 8:30 pm ET (except December))\nJoin us to learn the stages of creating\, developing\, revising\, and publicizing writing in genealogy\, from informal and personal reminiscences to articles and family histories. \nDate: 26 October 2023\nWriting SIG\nTime: 7:00 – 8:30 pm ET\nLocation: Virtual\nRegister HERE
URL:https://cobbgagensoc.org/ccgs-event/writing-sig-7/
LOCATION:Virtual
CATEGORIES:Special Interest groups
ATTACH;FMTTYPE=image/jpeg:https://cobbgagensoc.org/wp-content/uploads/2022/10/writing-SIG.jpg
END:VEVENT
END:VCALENDAR