BEGIN:VCALENDAR
VERSION:2.0
PRODID:-//Cobb County Genealogical Society - ECPv6.15.20//NONSGML v1.0//EN
CALSCALE:GREGORIAN
METHOD:PUBLISH
X-WR-CALNAME:Cobb County Genealogical Society
X-ORIGINAL-URL:https://cobbgagensoc.org
X-WR-CALDESC:Events for Cobb County Genealogical Society
REFRESH-INTERVAL;VALUE=DURATION:PT1H
X-Robots-Tag:noindex
X-PUBLISHED-TTL:PT1H
BEGIN:VTIMEZONE
TZID:America/New_York
BEGIN:DAYLIGHT
TZOFFSETFROM:-0500
TZOFFSETTO:-0400
TZNAME:EDT
DTSTART:20230312T070000
END:DAYLIGHT
BEGIN:STANDARD
TZOFFSETFROM:-0400
TZOFFSETTO:-0500
TZNAME:EST
DTSTART:20231105T060000
END:STANDARD
BEGIN:DAYLIGHT
TZOFFSETFROM:-0500
TZOFFSETTO:-0400
TZNAME:EDT
DTSTART:20240310T070000
END:DAYLIGHT
BEGIN:STANDARD
TZOFFSETFROM:-0400
TZOFFSETTO:-0500
TZNAME:EST
DTSTART:20241103T060000
END:STANDARD
BEGIN:DAYLIGHT
TZOFFSETFROM:-0500
TZOFFSETTO:-0400
TZNAME:EDT
DTSTART:20250309T070000
END:DAYLIGHT
BEGIN:STANDARD
TZOFFSETFROM:-0400
TZOFFSETTO:-0500
TZNAME:EST
DTSTART:20251102T060000
END:STANDARD
END:VTIMEZONE
BEGIN:VEVENT
DTSTART;TZID=America/New_York:20240203T090000
DTEND;TZID=America/New_York:20240203T120000
DTSTAMP:20260425T113547
CREATED:20231214T185456Z
LAST-MODIFIED:20231214T185456Z
UID:2739-1706950800-1706961600@cobbgagensoc.org
SUMMARY:CCGS 2024 Educational Series – Kick-it Up a Notch
DESCRIPTION:January 27\, February 3\, February 10 \nLocation: Virtual via Zoom \nTime: 9:00 am – 12:00 pm ET \nRegister HERE
URL:https://cobbgagensoc.org/ccgs-event/ccgs-2024-educational-series-kick-it-up-a-notch-2/
LOCATION:Virtual
CATEGORIES:Events
ATTACH;FMTTYPE=image/jpeg:https://cobbgagensoc.org/wp-content/uploads/2022/12/Meeting1.jpg
END:VEVENT
BEGIN:VEVENT
DTSTART;TZID=America/New_York:20240210T090000
DTEND;TZID=America/New_York:20240210T120000
DTSTAMP:20260425T113547
CREATED:20231214T185602Z
LAST-MODIFIED:20231214T185602Z
UID:2741-1707555600-1707566400@cobbgagensoc.org
SUMMARY:CCGS 2024 Educational Series – Kick-it Up a Notch
DESCRIPTION:January 27\, February 3\, February 10 \nLocation: Virtual via Zoom \nTime: 9:00 am – 12:00 pm ET \nRegister HERE
URL:https://cobbgagensoc.org/ccgs-event/ccgs-2024-educational-series-kick-it-up-a-notch-3/
LOCATION:Virtual
CATEGORIES:Events
ATTACH;FMTTYPE=image/jpeg:https://cobbgagensoc.org/wp-content/uploads/2022/12/Meeting1.jpg
END:VEVENT
BEGIN:VEVENT
DTSTART;TZID=America/New_York:20240220T190000
DTEND;TZID=America/New_York:20240220T210000
DTSTAMP:20260425T113547
CREATED:20231220T202218Z
LAST-MODIFIED:20231220T202218Z
UID:2784-1708455600-1708462800@cobbgagensoc.org
SUMMARY:DNA SIG
DESCRIPTION:Join us to explore the use of DNA testing in genealogy and gain a greater understanding of integrating DNA test results with traditional genealogical research.\nJoin us to explore the use of DNA testing in genealogy and gain a greater understanding of integrating DNA test results with traditional genealogical research. \n20 February 2024 \nDNA SIG \nTime: 7:00 – 9:00 pm ET\nLocation: Virtual\nTopic: Let’s Do Something with DNA\nRegister HERE \n  \n  \n 
URL:https://cobbgagensoc.org/ccgs-event/dna-sig-10/
LOCATION:Virtual
CATEGORIES:Special Interest groups
ATTACH;FMTTYPE=image/jpeg:https://cobbgagensoc.org/wp-content/uploads/2022/12/dna-g81fee7659_640.jpg
END:VEVENT
BEGIN:VEVENT
DTSTART;TZID=America/New_York:20240222T190000
DTEND;TZID=America/New_York:20240222T203000
DTSTAMP:20260425T113547
CREATED:20231220T202924Z
LAST-MODIFIED:20240401T160017Z
UID:2794-1708628400-1708633800@cobbgagensoc.org
SUMMARY:Writing SIG
DESCRIPTION:Writing SIG (fourth Thursday of every other month virtually 7:00 – 8:30 ET (except December))\nJoin us to learn the stages of creating\, developing\, revising\, and publicizing writing in genealogy\, from informal and personal reminiscences to articles and family histories. \n22 February 2024 \nWriting SIG\nTime: 7:00 – 8:30 pm ET\nLocation: Virtual\nRegister HERE
URL:https://cobbgagensoc.org/ccgs-event/writing-sig-10/
LOCATION:Virtual
CATEGORIES:Special Interest groups
ATTACH;FMTTYPE=image/jpeg:https://cobbgagensoc.org/wp-content/uploads/2022/10/writing-SIG.jpg
END:VEVENT
BEGIN:VEVENT
DTSTART;TZID=America/New_York:20240227T190000
DTEND;TZID=America/New_York:20240227T203000
DTSTAMP:20260425T113547
CREATED:20231219T221621Z
LAST-MODIFIED:20240401T160016Z
UID:2764-1709060400-1709065800@cobbgagensoc.org
SUMMARY:General Meeting
DESCRIPTION:General Meeting\nFebruary 27 @ 7:00 – 8:15 pm ET (Hybrid)\nFirst Presbyterian Church\, 189 Church Street\, Marietta\, GA \nTopic: The Genealogy Roll-up: The Essential Shortcut Every Genealogist Needs \nSpeaker: Jennifer Dondero \nDescription: \nEvery genealogist can aspire to do great genealogy. But how do you find the time for all those “things” you’ve been told you should be doing: planning\, tracking\, note-taking\, analyzing\, and reporting? There’s one shortcut you need\, and it’s so easy to get started! \nJennifer Patterson Dondero has been an avid genealogist for over 30 years. She got started when a school play led her to ask her father about where they came from. His answer was unsatisfactory and a genealogist was born. \nJennifer has been a professional genealogist since 2005\, first working as a verifying genealogist at the National Society Daughters of the American Revolution and then for herself. Her specialties include southern research\, DNA\, technology for genealogy\, and of course\, research shortcuts for Occasional Genealogists. \nSince 2016 she’s written content for Occasional Genealogists\, busy people who want to do great genealogy\, despite the interruptions.
URL:https://cobbgagensoc.org/ccgs-event/general-meeting-2/
LOCATION:First Presbyterian Church\, 189 Church Street\, Marietta\, GA\, 30060\, United States
CATEGORIES:Meetings
ATTACH;FMTTYPE=image/jpeg:https://cobbgagensoc.org/wp-content/uploads/2023/03/ccgs_monthly_meeting_image_bookcase_lightened_full_size.jpg
END:VEVENT
END:VCALENDAR