BEGIN:VCALENDAR
VERSION:2.0
PRODID:-//Cobb County Genealogical Society - ECPv6.15.20//NONSGML v1.0//EN
CALSCALE:GREGORIAN
METHOD:PUBLISH
X-WR-CALNAME:Cobb County Genealogical Society
X-ORIGINAL-URL:https://cobbgagensoc.org
X-WR-CALDESC:Events for Cobb County Genealogical Society
REFRESH-INTERVAL;VALUE=DURATION:PT1H
X-Robots-Tag:noindex
X-PUBLISHED-TTL:PT1H
BEGIN:VTIMEZONE
TZID:America/New_York
BEGIN:DAYLIGHT
TZOFFSETFROM:-0500
TZOFFSETTO:-0400
TZNAME:EDT
DTSTART:20240310T070000
END:DAYLIGHT
BEGIN:STANDARD
TZOFFSETFROM:-0400
TZOFFSETTO:-0500
TZNAME:EST
DTSTART:20241103T060000
END:STANDARD
BEGIN:DAYLIGHT
TZOFFSETFROM:-0500
TZOFFSETTO:-0400
TZNAME:EDT
DTSTART:20250309T070000
END:DAYLIGHT
BEGIN:STANDARD
TZOFFSETFROM:-0400
TZOFFSETTO:-0500
TZNAME:EST
DTSTART:20251102T060000
END:STANDARD
BEGIN:DAYLIGHT
TZOFFSETFROM:-0500
TZOFFSETTO:-0400
TZNAME:EDT
DTSTART:20260308T070000
END:DAYLIGHT
BEGIN:STANDARD
TZOFFSETFROM:-0400
TZOFFSETTO:-0500
TZNAME:EST
DTSTART:20261101T060000
END:STANDARD
END:VTIMEZONE
BEGIN:VEVENT
DTSTART;TZID=America/New_York:20250201T090000
DTEND;TZID=America/New_York:20250201T120000
DTSTAMP:20260424T120130
CREATED:20241229T191320Z
LAST-MODIFIED:20241229T191320Z
UID:3142-1738400400-1738411200@cobbgagensoc.org
SUMMARY:CCGS 2025 Educational Series – Revisiting Fundamentals
DESCRIPTION:Join us for an exciting virtual educational series on January 25 and February 1 & 8 \nLocation: Virtual via Zoom \nTime: 9:00 am – 12:00 pm ET \nRegister HERE
URL:https://cobbgagensoc.org/ccgs-event/ccgs-2025-educational-series-revisiting-fundamentals-2/
LOCATION:Virtual
CATEGORIES:Events
ATTACH;FMTTYPE=image/jpeg:https://cobbgagensoc.org/wp-content/uploads/2022/12/Meeting1.jpg
END:VEVENT
BEGIN:VEVENT
DTSTART;TZID=America/New_York:20250206T190000
DTEND;TZID=America/New_York:20250206T203000
DTSTAMP:20260424T120130
CREATED:20241223T212450Z
LAST-MODIFIED:20241227T213201Z
UID:3024-1738868400-1738873800@cobbgagensoc.org
SUMMARY:Writing SIG (Virtual)
DESCRIPTION:Writing SIG (fourth Thursday of every other month virtually 7:00 – 8:30 pm ET (except December))\nJoin us to learn the stages of creating\, developing\, revising\, and publicizing writing in genealogy\, from informal and personal reminiscences to articles and family histories. \n6 February 2025 \nWriting SIG \nTime: 7:00 – 8:30 pm ET \nTopic: \nSet aside 1.5 hours to work on writing your genealogy story. The facilitator will be available for advice\, direction\, and encouragement. \nLocation: Virtual \nRegister HERE \n  \n 
URL:https://cobbgagensoc.org/ccgs-event/writing-sig-2-6-25/
LOCATION:Virtual
CATEGORIES:Special Interest groups
ATTACH;FMTTYPE=image/jpeg:https://cobbgagensoc.org/wp-content/uploads/2022/10/writing-SIG.jpg
END:VEVENT
BEGIN:VEVENT
DTSTART;TZID=America/New_York:20250208T090000
DTEND;TZID=America/New_York:20250208T120000
DTSTAMP:20260424T120130
CREATED:20241229T191508Z
LAST-MODIFIED:20241229T191508Z
UID:3144-1739005200-1739016000@cobbgagensoc.org
SUMMARY:CCGS 2025 Educational Series – Revisiting Fundamentals
DESCRIPTION:Join us for an exciting virtual educational series on January 25 and February 1 & 8 \nLocation: Virtual via Zoom \nTime: 9:00 am – 12:00 pm ET \nRegister HERE
URL:https://cobbgagensoc.org/ccgs-event/ccgs-2025-educational-series-revisiting-fundamentals-2-2/
LOCATION:Virtual
CATEGORIES:Events
ATTACH;FMTTYPE=image/jpeg:https://cobbgagensoc.org/wp-content/uploads/2022/12/Meeting1.jpg
END:VEVENT
BEGIN:VEVENT
DTSTART;TZID=America/New_York:20250211T190000
DTEND;TZID=America/New_York:20250211T210000
DTSTAMP:20260424T120130
CREATED:20241223T205014Z
LAST-MODIFIED:20250201T202017Z
UID:3013-1739300400-1739307600@cobbgagensoc.org
SUMMARY:DNA SIG (Virtual)
DESCRIPTION:DNA SIG (3rd Tuesday of each month: 7:00 – 9:00 pm ET)\nJoin us to explore the use of DNA testing in genealogy and gain a greater understanding of integrating DNA test results with traditional genealogical research. \n11 February\, 2025 \nTime: 7:00 – 9:00 pm ET \nLocation: Virtual \nTopic: Curl Up With a DNA Book \nRegister HERE \n  \n  \n  \n 
URL:https://cobbgagensoc.org/ccgs-event/dna-sig-2-18-25/
LOCATION:Virtual
CATEGORIES:Special Interest groups
ATTACH;FMTTYPE=image/jpeg:https://cobbgagensoc.org/wp-content/uploads/2022/12/dna-g81fee7659_640.jpg
END:VEVENT
BEGIN:VEVENT
DTSTART;TZID=America/New_York:20250213T190000
DTEND;TZID=America/New_York:20250213T203000
DTSTAMP:20260424T120130
CREATED:20241223T211854Z
LAST-MODIFIED:20250103T215602Z
UID:3020-1739473200-1739478600@cobbgagensoc.org
SUMMARY:Photography and Genealogy SIG
DESCRIPTION:13 February 2025\nPhotography and Genealogy SIG (Virtual)\nTime: 7:00 – 8:30 pm ET\nLocation: Virtual\nTopic: Using Vivid-Pix and MyHeritage Photo Software \nRegister HERE
URL:https://cobbgagensoc.org/ccgs-event/photography-and-genealogy-sig-2-13-25/
LOCATION:Virtual
CATEGORIES:Special Interest groups
ATTACH;FMTTYPE=image/jpeg:https://cobbgagensoc.org/wp-content/uploads/2022/12/antique-1863896_640.jpg
END:VEVENT
BEGIN:VEVENT
DTSTART;TZID=America/New_York:20250225T190000
DTEND;TZID=America/New_York:20250225T203000
DTSTAMP:20260424T120130
CREATED:20241223T204347Z
LAST-MODIFIED:20250109T171311Z
UID:3009-1740510000-1740515400@cobbgagensoc.org
SUMMARY:General Meeting
DESCRIPTION:General Meeting \nTime: 7:00 – 8:30 pm ET \nLocation: First Presbyterian Church\, 189 Church Street Marietta\, GA 30060 \nTopic: Safeguarding Your Genealogy Records – Disaster Planning \nDescription: Your genealogical collection consists of irreplaceable family records\, photographs\, heirlooms\, digital files\, etc. Do you have a disaster preparation plan or kit in the event of a natural disaster or other emergency? Join us to learn about creating a genealogy disaster preparedness checklist and strategies to keep your research and heirlooms safe. \nSpeaker: Karen Molohon \nKaren Molohon\, MS\, has over 40 years of genealogy research\, teaching\, and presentation experience. She teaches genealogy courses at Kennesaw State University’s Osher Lifelong Learning Institute. Karen currently serves the Cobb County Genealogical Society as National Genealogical Society (NGS) Delegate and facilitates the Photography SIG and co-facilitates the Technology SIG. She serves as the NGS Vice-president for Society and Organization Management and is past Chair of the NGS Delegate Council. Karen is the Past Director of the Institute of Genealogy Historical Research and has held various positions at her local and state societies. She is a member of the Association of Professional Genealogists\, Cobb County Genealogical Society\, Georgia Genealogical Society\, Illinois State Genealogical Society\, National Genealogical Society\, Fielding Lewis Chapter of NSDAR\, and American Ancestors. \n 
URL:https://cobbgagensoc.org/ccgs-event/general-meeting-2-25-25/
LOCATION:First Presbyterian Church\, 189 Church Street\, Marietta\, GA\, 30060\, United States
CATEGORIES:Meetings
ATTACH;FMTTYPE=image/jpeg:https://cobbgagensoc.org/wp-content/uploads/2023/03/ccgs_monthly_meeting_image_bookcase_lightened_full_size.jpg
END:VEVENT
END:VCALENDAR