BEGIN:VCALENDAR
VERSION:2.0
PRODID:-//Cobb County Genealogical Society - ECPv6.15.20//NONSGML v1.0//EN
CALSCALE:GREGORIAN
METHOD:PUBLISH
X-ORIGINAL-URL:https://cobbgagensoc.org
X-WR-CALDESC:Events for Cobb County Genealogical Society
REFRESH-INTERVAL;VALUE=DURATION:PT1H
X-Robots-Tag:noindex
X-PUBLISHED-TTL:PT1H
BEGIN:VTIMEZONE
TZID:America/New_York
BEGIN:DAYLIGHT
TZOFFSETFROM:-0500
TZOFFSETTO:-0400
TZNAME:EDT
DTSTART:20240310T070000
END:DAYLIGHT
BEGIN:STANDARD
TZOFFSETFROM:-0400
TZOFFSETTO:-0500
TZNAME:EST
DTSTART:20241103T060000
END:STANDARD
BEGIN:DAYLIGHT
TZOFFSETFROM:-0500
TZOFFSETTO:-0400
TZNAME:EDT
DTSTART:20250309T070000
END:DAYLIGHT
BEGIN:STANDARD
TZOFFSETFROM:-0400
TZOFFSETTO:-0500
TZNAME:EST
DTSTART:20251102T060000
END:STANDARD
BEGIN:DAYLIGHT
TZOFFSETFROM:-0500
TZOFFSETTO:-0400
TZNAME:EDT
DTSTART:20260308T070000
END:DAYLIGHT
BEGIN:STANDARD
TZOFFSETFROM:-0400
TZOFFSETTO:-0500
TZNAME:EST
DTSTART:20261101T060000
END:STANDARD
END:VTIMEZONE
BEGIN:VEVENT
DTSTART;TZID=America/New_York:20250503T110000
DTEND;TZID=America/New_York:20250503T130000
DTSTAMP:20260424T062637
CREATED:20241227T210011Z
LAST-MODIFIED:20250331T144753Z
UID:3088-1746270000-1746277200@cobbgagensoc.org
SUMMARY:Technology & Genealogy SIG
DESCRIPTION:Technology & Genealogy SIG (1st Saturday every other month: 11:00 am – 1:00 pm ET)\nJoin us to learn about software (both office productivity and genealogy)\, tools\, and products related to all aspects of genealogical methodology\, organization\, and research. \n3 May 2025\n\nTopic: Joe Beine’s Genealogy Research Tools \nDescription: Join us to learn about Joe Beine’s genealogy projects and how they may help with your ancestral research using People Finding Tools | Passenger Lists and Immigration Records | Miscellaneous information. Please bring your research information with you to use during this work session. \nLocation: Georgia Room\, Switzer Library\, 266 Roswell St NE\, Marietta\, GA 30060 \n 
URL:https://cobbgagensoc.org/ccgs-event/technology-genealogy-sig-5-3-25/
LOCATION:Georgia Room\, Switzer Library\, 266 Roswell Street\, Marietta\, GA\, United States
CATEGORIES:Special Interest groups
ATTACH;FMTTYPE=image/jpeg:https://cobbgagensoc.org/wp-content/uploads/2022/12/business-ga075aff62_640.jpg
END:VEVENT
BEGIN:VEVENT
DTSTART;TZID=America/New_York:20250510T100000
DTEND;TZID=America/New_York:20250510T120000
DTSTAMP:20260424T062637
CREATED:20241227T214026Z
LAST-MODIFIED:20241227T214026Z
UID:3116-1746871200-1746878400@cobbgagensoc.org
SUMMARY:Let’s Do Something SIG (Virtual)
DESCRIPTION:Let’s Do Something SIG (2nd Saturday of each month: 10:00 am – Noon ET)\nDedicate two-hours for independent\, genealogy research each month. During the meeting\, attendees work independently\, but fellow researchers are available to offer suggestions if needed. \n10 May 2025\n \nTime: 10:00 am – 12:00 pm ET \nLocation: Virtual \nTopic: Set aside 2 hours to work on your own genealogy. Fellow researchers are available to offer suggestions if you need assistance. \nRegister HERE \n  \n 
URL:https://cobbgagensoc.org/ccgs-event/lets-do-something-sig-5-10-25/
LOCATION:Virtual
CATEGORIES:Special Interest groups
ATTACH;FMTTYPE=image/png:https://cobbgagensoc.org/wp-content/uploads/2023/01/lets_do_something_sig_3.fw_.png
END:VEVENT
BEGIN:VEVENT
DTSTART;TZID=America/New_York:20250520T190000
DTEND;TZID=America/New_York:20250520T210000
DTSTAMP:20260424T062637
CREATED:20241227T201535Z
LAST-MODIFIED:20250502T003338Z
UID:3069-1747767600-1747774800@cobbgagensoc.org
SUMMARY:DNA SIG (Virtual)
DESCRIPTION:DNA SIG (3rd Tuesday of each month: 7:00 – 9:00 pm ET)\nJoin us to explore the use of DNA testing in genealogy and gain a greater understanding of integrating DNA test results with traditional genealogical research. \n20 May 2025 \nTime: 7:00 – 9:00 pm ET \nLocation: Virtual \nTopic: TBA\nRegister HERE \n  \n  \n  \n 
URL:https://cobbgagensoc.org/ccgs-event/dna-sig-5-20-25/
LOCATION:Virtual
CATEGORIES:Special Interest groups
ATTACH;FMTTYPE=image/jpeg:https://cobbgagensoc.org/wp-content/uploads/2022/12/dna-g81fee7659_640.jpg
END:VEVENT
BEGIN:VEVENT
DTSTART;TZID=America/New_York:20250527T190000
DTEND;TZID=America/New_York:20250527T203000
DTSTAMP:20260424T062637
CREATED:20241223T215613Z
LAST-MODIFIED:20250407T192632Z
UID:3040-1748372400-1748377800@cobbgagensoc.org
SUMMARY:General Meeting
DESCRIPTION:General Meeting \nTime: 7:00 – 8:30 pm ET \nLocation: First Presbyterian Church\, 189 Church Street\, Marietta\, GA 30060 \nTopic: Marietta National Cemetery – Walking Through World War II \nDescription: In 1994\, Cobb County Genealogical Society published Cobb County\, Georgia Cemeteries\, Volume III\, Marietta National Cemetery.  Loren Plisco is a volunteer for Stories Behind the Stars (SBTS)\, a non-profit organization organized to collect the stories of each of the 420\,000+ Americans who were killed during World War II. Based on his research\, he has identified about 360 WWII fallen heroes interred or memorialized in the Marietta National Cemetery (MNC).  As of 1 April 2025\, about 28 percent of the WWII fallen in MNC have had a story completed by SBTS volunteers (102 stories/362 WWII fallen).  In this presentation\, Loren will use the stories of some of those WWII fallen to walk through some of the major headline events of World War II\, and discuss examples of the genealogical records and sources that help tell these stories. \nSpeaker: Loren Plisco \nLoren Plisco is an amateur genealogist\, who has been working on his family tree for over 35 years. Loren has a Bachelor of Science degree in Systems Engineering from the United States Naval Academy and a Master of Science degree in Technical Management from Johns Hopkins University. He served on submarines in the US Navy\, worked as engineer and manager for the federal government\, and operated a small consulting company – and is now fully retired. He is a member of the Cobb County Genealogical Society\, Ritchie County (WV) Historical Society\, and Western Pennsylvania Genealogical Society. He is also a volunteer for Stories Behind the Stars\, an organization writing stories about each of the 420\,000+ fallen heroes in World War II.
URL:https://cobbgagensoc.org/ccgs-event/general-meeting-5-27-25/
LOCATION:First Presbyterian Church\, 189 Church Street\, Marietta\, GA\, 30060\, United States
CATEGORIES:Meetings
ATTACH;FMTTYPE=image/jpeg:https://cobbgagensoc.org/wp-content/uploads/2023/03/ccgs_monthly_meeting_image_bookcase_lightened_full_size.jpg
END:VEVENT
END:VCALENDAR