BEGIN:VCALENDAR
VERSION:2.0
PRODID:-//Cobb County Genealogical Society - ECPv6.15.20//NONSGML v1.0//EN
CALSCALE:GREGORIAN
METHOD:PUBLISH
X-WR-CALNAME:Cobb County Genealogical Society
X-ORIGINAL-URL:https://cobbgagensoc.org
X-WR-CALDESC:Events for Cobb County Genealogical Society
REFRESH-INTERVAL;VALUE=DURATION:PT1H
X-Robots-Tag:noindex
X-PUBLISHED-TTL:PT1H
BEGIN:VTIMEZONE
TZID:America/New_York
BEGIN:DAYLIGHT
TZOFFSETFROM:-0500
TZOFFSETTO:-0400
TZNAME:EDT
DTSTART:20240310T070000
END:DAYLIGHT
BEGIN:STANDARD
TZOFFSETFROM:-0400
TZOFFSETTO:-0500
TZNAME:EST
DTSTART:20241103T060000
END:STANDARD
BEGIN:DAYLIGHT
TZOFFSETFROM:-0500
TZOFFSETTO:-0400
TZNAME:EDT
DTSTART:20250309T070000
END:DAYLIGHT
BEGIN:STANDARD
TZOFFSETFROM:-0400
TZOFFSETTO:-0500
TZNAME:EST
DTSTART:20251102T060000
END:STANDARD
BEGIN:DAYLIGHT
TZOFFSETFROM:-0500
TZOFFSETTO:-0400
TZNAME:EDT
DTSTART:20260308T070000
END:DAYLIGHT
BEGIN:STANDARD
TZOFFSETFROM:-0400
TZOFFSETTO:-0500
TZNAME:EST
DTSTART:20261101T060000
END:STANDARD
END:VTIMEZONE
BEGIN:VEVENT
DTSTART;TZID=America/New_York:20250605T190000
DTEND;TZID=America/New_York:20250605T203000
DTSTAMP:20260424T043702
CREATED:20241227T211851Z
LAST-MODIFIED:20241227T212721Z
UID:3098-1749150000-1749155400@cobbgagensoc.org
SUMMARY:Writing SIG (Virtual)
DESCRIPTION:Writing SIG (fourth Thursday of every other month virtually 7:00 – 8:30 pm ET (except December))\nJoin us to learn the stages of creating\, developing\, revising\, and publicizing writing in genealogy\, from informal and personal reminiscences to articles and family histories. \n5 June 2025 \nWriting SIG \nTime: 7:00 – 8:30 pm ET \nTopic: Set aside 1.5 hours to work on writing your genealogy story. The facilitator will be available for advice\, direction\, and encouragement. \nLocation: Virtual \nRegister HERE \n  \n 
URL:https://cobbgagensoc.org/ccgs-event/writing-sig-6-5-25/
LOCATION:Virtual
CATEGORIES:Special Interest groups
ATTACH;FMTTYPE=image/jpeg:https://cobbgagensoc.org/wp-content/uploads/2022/10/writing-SIG.jpg
END:VEVENT
BEGIN:VEVENT
DTSTART;TZID=America/New_York:20250612T190000
DTEND;TZID=America/New_York:20250612T203000
DTSTAMP:20260424T043702
CREATED:20241223T214617Z
LAST-MODIFIED:20250331T150620Z
UID:3033-1749754800-1749760200@cobbgagensoc.org
SUMMARY:Photography and Genealogy SIG
DESCRIPTION:12 June 2025\nPhotography and Genealogy SIG (Virtual)\nTime: 7:00 – 8:30 pm ET\nLocation: Virtual\nDescription: Learn how to use screen capture software: Snagit by TechSmith and Snipping Tool by Microsoft.\n\nRegister HERE\n 
URL:https://cobbgagensoc.org/ccgs-event/photography-and-genealogy-sig-6-12-25/
LOCATION:Virtual
CATEGORIES:Special Interest groups
ATTACH;FMTTYPE=image/jpeg:https://cobbgagensoc.org/wp-content/uploads/2022/12/antique-1863896_640.jpg
END:VEVENT
BEGIN:VEVENT
DTSTART;TZID=America/New_York:20250614T100000
DTEND;TZID=America/New_York:20250614T120000
DTSTAMP:20260424T043702
CREATED:20241227T214202Z
LAST-MODIFIED:20241227T214241Z
UID:3117-1749895200-1749902400@cobbgagensoc.org
SUMMARY:Let’s Do Something SIG (Virtual)
DESCRIPTION:Let’s Do Something SIG (2nd Saturday of each month: 10:00 am – Noon ET)\nDedicate two-hours for independent\, genealogy research each month. During the meeting\, attendees work independently\, but fellow researchers are available to offer suggestions if needed. \n14 June 2025\n \nTime: 10:00 am – 12:00 pm ET \nLocation: Virtual \nTopic: Set aside 2 hours to work on your own genealogy. Fellow researchers are available to offer suggestions if you need assistance. \nRegister HERE \n  \n 
URL:https://cobbgagensoc.org/ccgs-event/lets-do-something-sig-6-14-25/
LOCATION:Virtual
CATEGORIES:Special Interest groups
ATTACH;FMTTYPE=image/png:https://cobbgagensoc.org/wp-content/uploads/2023/01/lets_do_something_sig_3.fw_.png
END:VEVENT
BEGIN:VEVENT
DTSTART;TZID=America/New_York:20250617T190000
DTEND;TZID=America/New_York:20250617T210000
DTSTAMP:20260424T043702
CREATED:20241227T200924Z
LAST-MODIFIED:20241227T204134Z
UID:3063-1750186800-1750194000@cobbgagensoc.org
SUMMARY:DNA SIG (Virtual)
DESCRIPTION:DNA SIG (3rd Tuesday of each month: 7:00 – 9:00 pm ET)\nJoin us to explore the use of DNA testing in genealogy and gain a greater understanding of integrating DNA test results with traditional genealogical research. \n17 June\, 2025 \nTime: 7:00 – 9:00 pm ET \nLocation: Virtual \nTopic: Working Meeting \nRegister HERE \n  \n  \n  \n 
URL:https://cobbgagensoc.org/ccgs-event/dna-sig-6-17-25/
LOCATION:Virtual
CATEGORIES:Special Interest groups
ATTACH;FMTTYPE=image/jpeg:https://cobbgagensoc.org/wp-content/uploads/2022/12/dna-g81fee7659_640.jpg
END:VEVENT
BEGIN:VEVENT
DTSTART;TZID=America/New_York:20250624T190000
DTEND;TZID=America/New_York:20250624T203000
DTSTAMP:20260424T043702
CREATED:20241223T215710Z
LAST-MODIFIED:20250617T010628Z
UID:3041-1750791600-1750797000@cobbgagensoc.org
SUMMARY:General Meeting
DESCRIPTION:General Meeting \nTime: 7:00 – 8:30 pm ET \nLocation: Virtual via Zoom \nTopic: The Genealogist’s Journey: A Beginner’s Guide to Tracing Your Family Tree \nDescription: This guide uses the Hero’s Journey framework to guide beginners through the family history research process. We will discuss the book’s inspiration and how the Hero’s Journey keeps researchers motivated by exploring three stages: Departure (starting research\, overcoming hesitation\, finding mentorship)\, Initiation (facing challenges\, balancing time\, gaining insights)\, and Return (understanding ancestors’ roles in history\, refining research\, and sharing results). \nSpeaker: Donald Allen Jones \nDonald Allen Jones graduated with a Bachelor of Arts degree in History from Georgia Southern University and began contributing to his local newspaper\, became an administrative assistant for a local organization\, and a GED tutor and substitute teacher. Jones’ writing career began in 2007 when his poem ‘The Confederate Soldier’ was published in Confederate Veteran Magazine. He went on to publish a second poem\, ‘Their souls scream out to me’ in the same magazine in 2011. In 2021\, Jones released his first book\, ‘A Brave Man’s Country: Two Lewis Uncles Who Served in the Confederate States Army’\, an historical account of two of his ancestors who fought for the Confederacy during the War Between the States\, and his second – ‘The Genealogist’s Journey: A Beginner’s Guide to Tracing Your Family Tree’ was published in 2023. \nRegister HERE
URL:https://cobbgagensoc.org/ccgs-event/general-meeting-6-24-25/
CATEGORIES:Meetings
ATTACH;FMTTYPE=image/jpeg:https://cobbgagensoc.org/wp-content/uploads/2023/03/ccgs_monthly_meeting_image_bookcase_lightened_full_size.jpg
END:VEVENT
END:VCALENDAR