BEGIN:VCALENDAR
VERSION:2.0
PRODID:-//Cobb County Genealogical Society - ECPv6.15.20//NONSGML v1.0//EN
CALSCALE:GREGORIAN
METHOD:PUBLISH
X-WR-CALNAME:Cobb County Genealogical Society
X-ORIGINAL-URL:https://cobbgagensoc.org
X-WR-CALDESC:Events for Cobb County Genealogical Society
REFRESH-INTERVAL;VALUE=DURATION:PT1H
X-Robots-Tag:noindex
X-PUBLISHED-TTL:PT1H
BEGIN:VTIMEZONE
TZID:America/New_York
BEGIN:DAYLIGHT
TZOFFSETFROM:-0500
TZOFFSETTO:-0400
TZNAME:EDT
DTSTART:20240310T070000
END:DAYLIGHT
BEGIN:STANDARD
TZOFFSETFROM:-0400
TZOFFSETTO:-0500
TZNAME:EST
DTSTART:20241103T060000
END:STANDARD
BEGIN:DAYLIGHT
TZOFFSETFROM:-0500
TZOFFSETTO:-0400
TZNAME:EDT
DTSTART:20250309T070000
END:DAYLIGHT
BEGIN:STANDARD
TZOFFSETFROM:-0400
TZOFFSETTO:-0500
TZNAME:EST
DTSTART:20251102T060000
END:STANDARD
BEGIN:DAYLIGHT
TZOFFSETFROM:-0500
TZOFFSETTO:-0400
TZNAME:EDT
DTSTART:20260308T070000
END:DAYLIGHT
BEGIN:STANDARD
TZOFFSETFROM:-0400
TZOFFSETTO:-0500
TZNAME:EST
DTSTART:20261101T060000
END:STANDARD
END:VTIMEZONE
BEGIN:VEVENT
DTSTART;TZID=America/New_York:20250710T190000
DTEND;TZID=America/New_York:20250710T210000
DTSTAMP:20260424T025308
CREATED:20241227T210357Z
LAST-MODIFIED:20250710T114703Z
UID:3090-1752174000-1752181200@cobbgagensoc.org
SUMMARY:Technology & Genealogy SIG
DESCRIPTION:Technology & Genealogy SIG (Change in date / time: 10 July 2025 – 7:00 – 9:00 pm ET)\nJoin us to learn about software (both office productivity and genealogy)\, tools\, and products related to all aspects of genealogical methodology\, organization\, and research. \n10 July 2025\nTime: 7:00 – 9:00 pm ET \nLocation: Virtual via Zoom \nTopic: Incorporating AI Into Your Genealogy Toolkit \nRegister HERE
URL:https://cobbgagensoc.org/ccgs-event/technology-genealogy-sig-7-10-25/
LOCATION:Virtual
CATEGORIES:Special Interest groups
ATTACH;FMTTYPE=image/jpeg:https://cobbgagensoc.org/wp-content/uploads/2022/12/business-ga075aff62_640.jpg
END:VEVENT
BEGIN:VEVENT
DTSTART;TZID=America/New_York:20250712T100000
DTEND;TZID=America/New_York:20250712T120000
DTSTAMP:20260424T025308
CREATED:20241227T214452Z
LAST-MODIFIED:20241227T214822Z
UID:3123-1752314400-1752321600@cobbgagensoc.org
SUMMARY:Let’s Do Something SIG (Virtual)
DESCRIPTION:Let’s Do Something SIG (2nd Saturday of each month: 10:00 am – Noon ET)\nDedicate two-hours for independent\, genealogy research each month. During the meeting\, attendees work independently\, but fellow researchers are available to offer suggestions if needed. \n12 July 2025\n \nTime: 10:00 am – 12:00 pm ET \nLocation: Virtual \nTopic: Set aside 2 hours to work on your own genealogy. Fellow researchers are available to offer suggestions if you need assistance. \nRegister HERE \n  \n 
URL:https://cobbgagensoc.org/ccgs-event/lets-do-something-sig-7-12-25/
LOCATION:Virtual
CATEGORIES:Special Interest groups
ATTACH;FMTTYPE=image/png:https://cobbgagensoc.org/wp-content/uploads/2023/01/lets_do_something_sig_3.fw_.png
END:VEVENT
BEGIN:VEVENT
DTSTART;TZID=America/New_York:20250715T190000
DTEND;TZID=America/New_York:20250715T210000
DTSTAMP:20260424T025308
CREATED:20241227T201129Z
LAST-MODIFIED:20241227T203959Z
UID:3065-1752606000-1752613200@cobbgagensoc.org
SUMMARY:DNA SIG (Virtual)
DESCRIPTION:DNA SIG (3rd Tuesday of each month: 7:00 – 9:00 pm ET)\nJoin us to explore the use of DNA testing in genealogy and gain a greater understanding of integrating DNA test results with traditional genealogical research. \n15 July\, 2025 \nTime: 7:00 – 9:00 pm ET \nLocation: Virtual \nTopic: Working Meeting \nRegister HERE \n  \n  \n  \n 
URL:https://cobbgagensoc.org/ccgs-event/dna-sig-7-15-25/
LOCATION:Virtual
CATEGORIES:Special Interest groups
ATTACH;FMTTYPE=image/jpeg:https://cobbgagensoc.org/wp-content/uploads/2022/12/dna-g81fee7659_640.jpg
END:VEVENT
BEGIN:VEVENT
DTSTART;TZID=America/New_York:20250722T190000
DTEND;TZID=America/New_York:20250722T203000
DTSTAMP:20260424T025308
CREATED:20241223T215741Z
LAST-MODIFIED:20250624T133158Z
UID:3042-1753210800-1753216200@cobbgagensoc.org
SUMMARY:General Meeting
DESCRIPTION:General Meeting \nTime: 7:00 – 8:30 pm ET \nLocation: First Presbyterian Church\, 189 Church Street\, Marietta\, GA \nTopic: People of the Kennesaw City Cemetery \nDescription: Located in the heart of Downtown Kennesaw\, the historic Kennesaw City Cemetery dates back to the 1860s. With almost 1\,600 residents\, it is home to countless individuals whose impact on North Cobb can still be felt. This presentation examines the stories of several residents\, including former mayors\, veterans\, the town doctor\, and local social leaders. Along with these sometimes surprising stories\, the methods used to research them will also be shared. \nSpeaker: Andrew Bramlett \nAndrew Bramlett is the vice president of the Cobb County Genealogical Society and a student at Kennesaw State University. He has volunteered at the Kennesaw City Cemetery for almost a decade and has developed several tours highlighting its notable residents. Andrew is active in a number of other local organizations\, including the Kennesaw Historic Preservation Commission and the Friends of Kennesaw Mountain.
URL:https://cobbgagensoc.org/ccgs-event/general-meeting-7-22-25/
LOCATION:First Presbyterian Church\, 189 Church Street\, Marietta\, GA\, 30060\, United States
CATEGORIES:Meetings
ATTACH;FMTTYPE=image/jpeg:https://cobbgagensoc.org/wp-content/uploads/2023/03/ccgs_monthly_meeting_image_bookcase_lightened_full_size.jpg
END:VEVENT
END:VCALENDAR