BEGIN:VCALENDAR
VERSION:2.0
PRODID:-//Cobb County Genealogical Society - ECPv6.15.20//NONSGML v1.0//EN
CALSCALE:GREGORIAN
METHOD:PUBLISH
X-WR-CALNAME:Cobb County Genealogical Society
X-ORIGINAL-URL:https://cobbgagensoc.org
X-WR-CALDESC:Events for Cobb County Genealogical Society
REFRESH-INTERVAL;VALUE=DURATION:PT1H
X-Robots-Tag:noindex
X-PUBLISHED-TTL:PT1H
BEGIN:VTIMEZONE
TZID:America/New_York
BEGIN:DAYLIGHT
TZOFFSETFROM:-0500
TZOFFSETTO:-0400
TZNAME:EDT
DTSTART:20240310T070000
END:DAYLIGHT
BEGIN:STANDARD
TZOFFSETFROM:-0400
TZOFFSETTO:-0500
TZNAME:EST
DTSTART:20241103T060000
END:STANDARD
BEGIN:DAYLIGHT
TZOFFSETFROM:-0500
TZOFFSETTO:-0400
TZNAME:EDT
DTSTART:20250309T070000
END:DAYLIGHT
BEGIN:STANDARD
TZOFFSETFROM:-0400
TZOFFSETTO:-0500
TZNAME:EST
DTSTART:20251102T060000
END:STANDARD
BEGIN:DAYLIGHT
TZOFFSETFROM:-0500
TZOFFSETTO:-0400
TZNAME:EDT
DTSTART:20260308T070000
END:DAYLIGHT
BEGIN:STANDARD
TZOFFSETFROM:-0400
TZOFFSETTO:-0500
TZNAME:EST
DTSTART:20261101T060000
END:STANDARD
END:VTIMEZONE
BEGIN:VEVENT
DTSTART;TZID=America/New_York:20250906T110000
DTEND;TZID=America/New_York:20250906T130000
DTSTAMP:20260423T233043
CREATED:20241227T210709Z
LAST-MODIFIED:20250731T185318Z
UID:3092-1757156400-1757163600@cobbgagensoc.org
SUMMARY:Technology & Genealogy SIG
DESCRIPTION:Technology & Genealogy SIG (1st Saturday every other month: 11:00 am – 1:00 pm ET)\nJoin us to learn about tools such as Google Books\, Google Patents\, and Google Scholar that you can incorporate into your research planning. We will also discuss some of the library apps that are available to help you track books you own or have read. Please bring your computers and smartphones so you can experiment for yourself! \n6 September 2025\n \nTopic: Google Books (and More!) & Library Apps \nLocation: Georgia Room\, Switzer Library\, 266 Roswell St NE\, Marietta\, GA 30060
URL:https://cobbgagensoc.org/ccgs-event/technology-genealogy-sig-9-6-25/
LOCATION:Georgia Room\, Switzer Library\, 266 Roswell Street\, Marietta\, GA\, United States
CATEGORIES:Special Interest groups
ATTACH;FMTTYPE=image/jpeg:https://cobbgagensoc.org/wp-content/uploads/2022/12/business-ga075aff62_640.jpg
END:VEVENT
BEGIN:VEVENT
DTSTART;TZID=America/New_York:20250913T100000
DTEND;TZID=America/New_York:20250913T120000
DTSTAMP:20260423T233043
CREATED:20241227T214757Z
LAST-MODIFIED:20241227T214757Z
UID:3125-1757757600-1757764800@cobbgagensoc.org
SUMMARY:Let’s Do Something SIG (Virtual)
DESCRIPTION:Let’s Do Something SIG (2nd Saturday of each month: 10:00 am – Noon ET)\nDedicate two-hours for independent\, genealogy research each month. During the meeting\, attendees work independently\, but fellow researchers are available to offer suggestions if needed. \n13 September 2025\n \nTime: 10:00 am – 12:00 pm ET \nLocation: Virtual \nTopic: Set aside 2 hours to work on your own genealogy. Fellow researchers are available to offer suggestions if you need assistance. \nRegister HERE \n  \n 
URL:https://cobbgagensoc.org/ccgs-event/lets-do-something-sig-9-13-25/
LOCATION:Virtual
CATEGORIES:Special Interest groups
ATTACH;FMTTYPE=image/png:https://cobbgagensoc.org/wp-content/uploads/2023/01/lets_do_something_sig_3.fw_.png
END:VEVENT
BEGIN:VEVENT
DTSTART;TZID=America/New_York:20250916T190000
DTEND;TZID=America/New_York:20250916T210000
DTSTAMP:20260423T233043
CREATED:20241227T202854Z
LAST-MODIFIED:20241227T203059Z
UID:3074-1758049200-1758056400@cobbgagensoc.org
SUMMARY:DNA SIG (Virtual)
DESCRIPTION:DNA SIG (3rd Tuesday of each month: 7:00 – 9:00 pm ET)\nJoin us to explore the use of DNA testing in genealogy and gain a greater understanding of integrating DNA test results with traditional genealogical research. \n16 September\, 2025 \nTime: 7:00 – 9:00 pm ET \nLocation: Virtual \nTopic: TBA\nRegister HERE \n  \n  \n  \n 
URL:https://cobbgagensoc.org/ccgs-event/dna-sig-9-16-25/
LOCATION:Virtual
CATEGORIES:Special Interest groups
ATTACH;FMTTYPE=image/jpeg:https://cobbgagensoc.org/wp-content/uploads/2022/12/dna-g81fee7659_640.jpg
END:VEVENT
BEGIN:VEVENT
DTSTART;TZID=America/New_York:20250923T190000
DTEND;TZID=America/New_York:20250923T203000
DTSTAMP:20260423T233043
CREATED:20241223T215956Z
LAST-MODIFIED:20250820T205321Z
UID:3044-1758654000-1758659400@cobbgagensoc.org
SUMMARY:General Meeting
DESCRIPTION:General Meeting \nTime: 7:00 – 8:30 pm ET \nTopic: Translating\, Transcribing\, and Summarizing Documents Using AI (Artificial Intelligence) \nLocation: Watch Party at First Presbyterian Church\, 189 Church Street\, Marietta\, GA \nDescription: Join us to watch the presentation with Thomas MacEntee. Networking and discussion opportunities will be available before and after the presentation. \nLearn how to harness the power of artificial intelligence to assist in translating\, transcribing\, and summarizing a variety of genealogy records. A handwritten baptismal record from the 1800s? No problem. A faded newspaper obituary? No problem. We’ll cover the best AI platforms as well as how to craft a solid prompt to get you the results you need. \nSpeaker: Thomas MacEntee \nThomas MacEntee is a Baby Boomer guy with a love of punk rock music but also art history who somehow “fell” into the technology industry almost 40 years ago\, and then left a lucrative IT career to pursue his love of family history and genealogy. Technology and historical research are opposites\, but “tech people” like Thomas are needed to guide today’s genealogists through the maze of options so they can deploy the best apps and devices to break down research brick walls. Thomas MacEntee: author\, educator\, advocate\, entrepreneur\, and that “genealogy guy” who helps you accomplish your family history goals. \nThomas MacEntee is a guy with a love of punk rock music but also art history who somehow “fell” into the technology industry years ago. He left a lucrative tech career to pursue his love of family history and genealogy. Technology and historical research seem like opposites\, but “tech people” like Thomas are needed to guide you through the maze of options so you can find your ancestors and bring their stories to life. \nVirtual Attendance Registration if you are unable to attend in-person: Click HERE
URL:https://cobbgagensoc.org/ccgs-event/general-meeting-9-23-25/
CATEGORIES:Meetings
ATTACH;FMTTYPE=image/jpeg:https://cobbgagensoc.org/wp-content/uploads/2023/03/ccgs_monthly_meeting_image_bookcase_lightened_full_size.jpg
END:VEVENT
BEGIN:VEVENT
DTSTART;TZID=America/New_York:20250927T100000
DTEND;TZID=America/New_York:20250927T123000
DTSTAMP:20260423T233043
CREATED:20241227T205315Z
LAST-MODIFIED:20250925T142513Z
UID:3084-1758967200-1758976200@cobbgagensoc.org
SUMMARY:Photography and Genealogy SIG
DESCRIPTION:Topic: Great Genealogy Shootout \nJoin us for a fun morning thinking outside the box about how to apply your genealogy skills and incorporate photography. \n\nYou’ll receive a list of 6 to 8 general topics and then have 2 hours to travel around Cobb County to photograph genealogy-related items falling into these categories. We’ll get together afterwards for lunch to discuss our pictures.\nFor those outside the Cobb County area\, you can also participate in the shootout. Just email ccgsphoto@cobbgagensoc.org by 5 pm on Friday\, September 26\, to receive the list of topics. You’re invited to take genealogy-related photos in your area on Saturday between 10:00 am and 12:30 pm in your local time zone.\n\nLocation: Meet at the First Presbyterian Church\, 189 Church Street\, Marietta\, GA 30060 (West Parking Lot) if you are in the Cobb County area.
URL:https://cobbgagensoc.org/ccgs-event/photography-and-genealogy-sig-9-27-25/
LOCATION:First Presbyterian Church\, 189 Church Street\, Marietta\, GA\, 30060\, United States
CATEGORIES:Special Interest groups
ATTACH;FMTTYPE=image/jpeg:https://cobbgagensoc.org/wp-content/uploads/2022/12/antique-1863896_640.jpg
END:VEVENT
END:VCALENDAR