BEGIN:VCALENDAR
VERSION:2.0
PRODID:-//Cobb County Genealogical Society - ECPv6.15.20//NONSGML v1.0//EN
CALSCALE:GREGORIAN
METHOD:PUBLISH
X-ORIGINAL-URL:https://cobbgagensoc.org
X-WR-CALDESC:Events for Cobb County Genealogical Society
REFRESH-INTERVAL;VALUE=DURATION:PT1H
X-Robots-Tag:noindex
X-PUBLISHED-TTL:PT1H
BEGIN:VTIMEZONE
TZID:America/New_York
BEGIN:DAYLIGHT
TZOFFSETFROM:-0500
TZOFFSETTO:-0400
TZNAME:EDT
DTSTART:20240310T070000
END:DAYLIGHT
BEGIN:STANDARD
TZOFFSETFROM:-0400
TZOFFSETTO:-0500
TZNAME:EST
DTSTART:20241103T060000
END:STANDARD
BEGIN:DAYLIGHT
TZOFFSETFROM:-0500
TZOFFSETTO:-0400
TZNAME:EDT
DTSTART:20250309T070000
END:DAYLIGHT
BEGIN:STANDARD
TZOFFSETFROM:-0400
TZOFFSETTO:-0500
TZNAME:EST
DTSTART:20251102T060000
END:STANDARD
BEGIN:DAYLIGHT
TZOFFSETFROM:-0500
TZOFFSETTO:-0400
TZNAME:EDT
DTSTART:20260308T070000
END:DAYLIGHT
BEGIN:STANDARD
TZOFFSETFROM:-0400
TZOFFSETTO:-0500
TZNAME:EST
DTSTART:20261101T060000
END:STANDARD
END:VTIMEZONE
BEGIN:VEVENT
DTSTART;TZID=America/New_York:20251101T110000
DTEND;TZID=America/New_York:20251101T130000
DTSTAMP:20260423T202016
CREATED:20241227T210915Z
LAST-MODIFIED:20251006T223122Z
UID:3094-1761994800-1762002000@cobbgagensoc.org
SUMMARY:Technology & Genealogy SIG
DESCRIPTION:Technology & Genealogy SIG (1st Saturday every other month: 11:00 am – 1:00 pm ET)\nJoin us to learn about software (both office productivity and genealogy)\, tools\, and products related to all aspects of genealogical methodology\, organization\, and research. \n1 November 2025\n \nTopic: One-Step Websites for Research \nLocation: Georgia Room\, Switzer Library\, 266 Roswell St NE\, Marietta\, GA 30060
URL:https://cobbgagensoc.org/ccgs-event/technology-genealogy-sig-11-1-25/
LOCATION:Georgia Room\, Switzer Library\, 266 Roswell Street\, Marietta\, GA\, United States
CATEGORIES:Special Interest groups
ATTACH;FMTTYPE=image/jpeg:https://cobbgagensoc.org/wp-content/uploads/2022/12/business-ga075aff62_640.jpg
END:VEVENT
BEGIN:VEVENT
DTSTART;TZID=America/New_York:20251108T100000
DTEND;TZID=America/New_York:20251108T120000
DTSTAMP:20260423T202016
CREATED:20241227T215114Z
LAST-MODIFIED:20241227T215114Z
UID:3130-1762596000-1762603200@cobbgagensoc.org
SUMMARY:Let’s Do Something SIG (Virtual)
DESCRIPTION:Let’s Do Something SIG (2nd Saturday of each month: 10:00 am – Noon ET)\nDedicate two-hours for independent\, genealogy research each month. During the meeting\, attendees work independently\, but fellow researchers are available to offer suggestions if needed. \n8 November 2025\n \nTime: 10:00 am – 12:00 pm ET \nLocation: Virtual \nTopic: Set aside 2 hours to work on your own genealogy. Fellow researchers are available to offer suggestions if you need assistance. \nRegister HERE \n  \n 
URL:https://cobbgagensoc.org/ccgs-event/lets-do-something-sig-11-8-25/
LOCATION:Virtual
CATEGORIES:Special Interest groups
ATTACH;FMTTYPE=image/png:https://cobbgagensoc.org/wp-content/uploads/2023/01/lets_do_something_sig_3.fw_.png
END:VEVENT
BEGIN:VEVENT
DTSTART;TZID=America/New_York:20251115T103000
DTEND;TZID=America/New_York:20251115T123000
DTSTAMP:20260423T202016
CREATED:20251025T194114Z
LAST-MODIFIED:20251025T194114Z
UID:3336-1763202600-1763209800@cobbgagensoc.org
SUMMARY:DNA SIG In-person Meeting
DESCRIPTION:DNA SIG (3rd Tuesday of each month: 7:00 – 9:00 pm ET except as noted)\nJoin us to explore the use of DNA testing in genealogy and gain a greater understanding of integrating DNA test results with traditional genealogical research. \n15 November 2025 (Change of Date) \nTime: 10:30 am – 12:30 pm ET \nLocation: Georgia Room\, Switzer Library\, 266 Roswell St NE\, Marietta\, GA 30060 \nTopic: Hands-on DNA SIG Work Session \n  \n  \n  \n 
URL:https://cobbgagensoc.org/ccgs-event/dna-sig-11-15-25/
LOCATION:Georgia Room\, Switzer Library\, 266 Roswell Street\, Marietta\, GA\, United States
CATEGORIES:Special Interest groups
ATTACH;FMTTYPE=image/jpeg:https://cobbgagensoc.org/wp-content/uploads/2022/12/dna-g81fee7659_640.jpg
END:VEVENT
BEGIN:VEVENT
DTSTART;TZID=America/New_York:20251118T190000
DTEND;TZID=America/New_York:20251118T203000
DTSTAMP:20260423T202016
CREATED:20241223T220136Z
LAST-MODIFIED:20250820T205941Z
UID:3046-1763492400-1763497800@cobbgagensoc.org
SUMMARY:General Meeting
DESCRIPTION:Annual Meeting \nTime: 7:00 – 8:30 pm ET \nTopics: \n\nAnnual Meeting including election of officers\nGenealogy Show and Tell: Attendees are encouraged to create a poster\, any size\, spotlighting their genealogical work over the past twelve months and / or highlighting their goals for 2026.  Include such topics as organization\, education (classes\, webinars\, etc.)\, records you found or are still seeking\, breakthroughs\, brick walls (tough research questions)\, and more!\n\nLocation: Provinos Italian Restaurant\, 440 Ernest W Barrett Pkwy NW #1\, Kennesaw\, GA 30144
URL:https://cobbgagensoc.org/ccgs-event/general-meeting-11-18-25/
LOCATION:Provino’s Italian Restuarant\, 440 Ernest W. Barrett Pkwy NW #1\, Kennesaw
CATEGORIES:Meetings
ATTACH;FMTTYPE=image/jpeg:https://cobbgagensoc.org/wp-content/uploads/2023/03/ccgs_monthly_meeting_image_bookcase_lightened_full_size.jpg
END:VEVENT
END:VCALENDAR