BEGIN:VCALENDAR
VERSION:2.0
PRODID:-//Cobb County Genealogical Society - ECPv6.15.20//NONSGML v1.0//EN
CALSCALE:GREGORIAN
METHOD:PUBLISH
X-WR-CALNAME:Cobb County Genealogical Society
X-ORIGINAL-URL:https://cobbgagensoc.org
X-WR-CALDESC:Events for Cobb County Genealogical Society
REFRESH-INTERVAL;VALUE=DURATION:PT1H
X-Robots-Tag:noindex
X-PUBLISHED-TTL:PT1H
BEGIN:VTIMEZONE
TZID:America/New_York
BEGIN:DAYLIGHT
TZOFFSETFROM:-0500
TZOFFSETTO:-0400
TZNAME:EDT
DTSTART:20240310T070000
END:DAYLIGHT
BEGIN:STANDARD
TZOFFSETFROM:-0400
TZOFFSETTO:-0500
TZNAME:EST
DTSTART:20241103T060000
END:STANDARD
BEGIN:DAYLIGHT
TZOFFSETFROM:-0500
TZOFFSETTO:-0400
TZNAME:EDT
DTSTART:20250309T070000
END:DAYLIGHT
BEGIN:STANDARD
TZOFFSETFROM:-0400
TZOFFSETTO:-0500
TZNAME:EST
DTSTART:20251102T060000
END:STANDARD
BEGIN:DAYLIGHT
TZOFFSETFROM:-0500
TZOFFSETTO:-0400
TZNAME:EDT
DTSTART:20260308T070000
END:DAYLIGHT
BEGIN:STANDARD
TZOFFSETFROM:-0400
TZOFFSETTO:-0500
TZNAME:EST
DTSTART:20261101T060000
END:STANDARD
END:VTIMEZONE
BEGIN:VEVENT
DTSTART;TZID=America/New_York:20251204T190000
DTEND;TZID=America/New_York:20251204T203000
DTSTAMP:20260423T183126
CREATED:20241227T213452Z
LAST-MODIFIED:20251202T152154Z
UID:3112-1764874800-1764880200@cobbgagensoc.org
SUMMARY:Writing SIG (Virtual)
DESCRIPTION:Writing SIG (first Thursday of every other month virtually 7:00 – 8:30 pm ET)\nJoin us to learn the stages of creating\, developing\, revising\, and publicizing writing in genealogy\, from informal and personal reminiscences to articles and family histories. \n4 Dec 2025 meeting has been cancelled\nWriting SIG \nTime: 7:00 – 8:30 pm ET \nNext meeting: February 2026 with specific date to be announced later \n  \n 
URL:https://cobbgagensoc.org/ccgs-event/writing-sig-12-4-25/
LOCATION:Virtual
CATEGORIES:Special Interest groups
ATTACH;FMTTYPE=image/jpeg:https://cobbgagensoc.org/wp-content/uploads/2022/10/writing-SIG.jpg
END:VEVENT
BEGIN:VEVENT
DTSTART;TZID=America/New_York:20251211T190000
DTEND;TZID=America/New_York:20251211T203000
DTSTAMP:20260423T183126
CREATED:20241227T205532Z
LAST-MODIFIED:20250925T142930Z
UID:3086-1765479600-1765485000@cobbgagensoc.org
SUMMARY:Photography and Genealogy SIG
DESCRIPTION:Topic: Sharing Our Great Genealogy Photos \nDescription: Join us for a fun evening sharing how thinking outside the box about brought together your genealogy and photography skills. Be prepared to share your photos online. \nRegister HERE
URL:https://cobbgagensoc.org/ccgs-event/photography-and-genealogy-sig-12-11-25/
LOCATION:Virtual
CATEGORIES:Special Interest groups
ATTACH;FMTTYPE=image/jpeg:https://cobbgagensoc.org/wp-content/uploads/2022/12/antique-1863896_640.jpg
END:VEVENT
BEGIN:VEVENT
DTSTART;TZID=America/New_York:20251213T100000
DTEND;TZID=America/New_York:20251213T120000
DTSTAMP:20260423T183126
CREATED:20241227T215229Z
LAST-MODIFIED:20241227T215229Z
UID:3131-1765620000-1765627200@cobbgagensoc.org
SUMMARY:Let’s Do Something SIG (Virtual)
DESCRIPTION:Let’s Do Something SIG (2nd Saturday of each month: 10:00 am – Noon ET)\nDedicate two-hours for independent\, genealogy research each month. During the meeting\, attendees work independently\, but fellow researchers are available to offer suggestions if needed. \n13 December 2025\n \nTime: 10:00 am – 12:00 pm ET \nLocation: Virtual \nTopic: Set aside 2 hours to work on your own genealogy. Fellow researchers are available to offer suggestions if you need assistance. \nRegister HERE \n  \n 
URL:https://cobbgagensoc.org/ccgs-event/lets-do-something-sig-12-13-25/
LOCATION:Virtual
CATEGORIES:Special Interest groups
ATTACH;FMTTYPE=image/png:https://cobbgagensoc.org/wp-content/uploads/2023/01/lets_do_something_sig_3.fw_.png
END:VEVENT
END:VCALENDAR