BEGIN:VCALENDAR
VERSION:2.0
PRODID:-//Cobb County Genealogical Society - ECPv6.15.20//NONSGML v1.0//EN
CALSCALE:GREGORIAN
METHOD:PUBLISH
X-ORIGINAL-URL:https://cobbgagensoc.org
X-WR-CALDESC:Events for Cobb County Genealogical Society
REFRESH-INTERVAL;VALUE=DURATION:PT1H
X-Robots-Tag:noindex
X-PUBLISHED-TTL:PT1H
BEGIN:VTIMEZONE
TZID:America/New_York
BEGIN:DAYLIGHT
TZOFFSETFROM:-0500
TZOFFSETTO:-0400
TZNAME:EDT
DTSTART:20250309T070000
END:DAYLIGHT
BEGIN:STANDARD
TZOFFSETFROM:-0400
TZOFFSETTO:-0500
TZNAME:EST
DTSTART:20251102T060000
END:STANDARD
BEGIN:DAYLIGHT
TZOFFSETFROM:-0500
TZOFFSETTO:-0400
TZNAME:EDT
DTSTART:20260308T070000
END:DAYLIGHT
BEGIN:STANDARD
TZOFFSETFROM:-0400
TZOFFSETTO:-0500
TZNAME:EST
DTSTART:20261101T060000
END:STANDARD
BEGIN:DAYLIGHT
TZOFFSETFROM:-0500
TZOFFSETTO:-0400
TZNAME:EDT
DTSTART:20270314T070000
END:DAYLIGHT
BEGIN:STANDARD
TZOFFSETFROM:-0400
TZOFFSETTO:-0500
TZNAME:EST
DTSTART:20271107T060000
END:STANDARD
END:VTIMEZONE
BEGIN:VEVENT
DTSTART;TZID=America/New_York:20260502T110000
DTEND;TZID=America/New_York:20260502T130000
DTSTAMP:20260423T133139
CREATED:20251230T190128Z
LAST-MODIFIED:20260418T212341Z
UID:3450-1777719600-1777726800@cobbgagensoc.org
SUMMARY:Technology & Genealogy SIG
DESCRIPTION:Technology & Genealogy SIG (1st Saturday every other month: 11:00 am – 1:00 pm ET) \nJoin us to learn about software (both office productivity and genealogy)\, tools\, and products related to all aspects of genealogical methodology\, organization\, and research. \n2 May 2026 \nTime: 11:00 am – 1:00 pm ET \nLocation: Georgia Room\, Switzer Library\, 266 Roswell St NE\, Marietta\, GA 30060 \nTopic: Skeletons in Your Closet… and Hackers in Your Inbox \nDescription: Genealogists are not just historians—we are data stewards. Protecting your research and digital legacy is as important as preserving the records themselves. Join us to learn more about why genealogy cybersecurity matters\, common threats and scams\, protecting your accounts and data\, incident response\, and receive a free Genealogy Cybersecurity Checklist. \n 
URL:https://cobbgagensoc.org/ccgs-event/technology-genealogy-sig-5-2-2026/
LOCATION:Georgia Room\, Switzer Library\, 266 Roswell Street\, Marietta\, GA\, United States
CATEGORIES:Special Interest groups
ATTACH;FMTTYPE=image/jpeg:https://cobbgagensoc.org/wp-content/uploads/2022/12/business-ga075aff62_640.jpg
END:VEVENT
BEGIN:VEVENT
DTSTART;TZID=America/New_York:20260509T100000
DTEND;TZID=America/New_York:20260509T120000
DTSTAMP:20260423T133139
CREATED:20251230T184625Z
LAST-MODIFIED:20260223T203507Z
UID:3440-1778320800-1778328000@cobbgagensoc.org
SUMMARY:Let's Do Something SIG
DESCRIPTION:Let’s Do Something SIG (2nd Saturday of each month: 10:00 am – Noon ET)\nDedicate two-hours for independent\, genealogy research each month. During the meeting\, attendees work independently\, but fellow researchers are available to offer suggestions if needed. \n9 May 2026 \nTime: 10:00 am – 12:00 pm ET \nLocation: Virtual \nTopic: Set aside 2 hours to work on your own genealogy. Fellow researchers are available to offer suggestions if you need assistance. \nRegister HERE
URL:https://cobbgagensoc.org/ccgs-event/lets-do-something-sig-5-9-26/
CATEGORIES:Special Interest groups
ATTACH;FMTTYPE=image/png:https://cobbgagensoc.org/wp-content/uploads/2023/01/lets_do_something_sig_3.fw_.png
END:VEVENT
BEGIN:VEVENT
DTSTART;TZID=America/New_York:20260514T190000
DTEND;TZID=America/New_York:20260514T203000
DTSTAMP:20260423T133139
CREATED:20251230T185041Z
LAST-MODIFIED:20260406T205211Z
UID:3444-1778785200-1778790600@cobbgagensoc.org
SUMMARY:Photography and Genealogy SIG
DESCRIPTION:Photography & Genealogy SIG (2nd Tuesday with quarterly dates to be determined)\nJoin to explore using photography to enhance your genealogy research. Current topics of interest include: AI and genealogy photo collections\, photography and GPS\, genealogical clues using post cards\, etc. \n14 May 2026 \nTime: 7:00 – 8:30 pm ET \nLocation: Virtual \nTopic: AI and Genealogy for Your Photos \nDescription: Join us to learn various techniques analyzing your photo collections using AI. \nRegister HERE \n 
URL:https://cobbgagensoc.org/ccgs-event/photography-and-genealogy-sig-5-14-26/
LOCATION:Virtual
CATEGORIES:Special Interest groups
ATTACH;FMTTYPE=image/jpeg:https://cobbgagensoc.org/wp-content/uploads/2022/12/antique-1863896_640.jpg
END:VEVENT
BEGIN:VEVENT
DTSTART;TZID=America/New_York:20260519T190000
DTEND;TZID=America/New_York:20260519T210000
DTSTAMP:20260423T133139
CREATED:20251230T183802Z
LAST-MODIFIED:20260301T211228Z
UID:3432-1779217200-1779224400@cobbgagensoc.org
SUMMARY:DNA SIG (Virtual)
DESCRIPTION:DNA SIG (3rd Tuesday of each month: 7:00 – 9:00 pm ET)\nJoin us to explore the use of DNA testing in genealogy and gain a greater understanding of integrating DNA test results with traditional genealogical research. \nMay 2026 (In-person meeting at the Switzer Library – date pending) \nTime: To be determined \nLocation: Switzer Library\, 266 Roswell Street NE\, Marietta\, GA \nTopic: More details coming soon! \n  \n  \n  \n 
URL:https://cobbgagensoc.org/ccgs-event/dna-sig-5-19-26/
LOCATION:Georgia Room\, Switzer Library\, 266 Roswell Street\, Marietta\, GA\, United States
CATEGORIES:Special Interest groups
ATTACH;FMTTYPE=image/jpeg:https://cobbgagensoc.org/wp-content/uploads/2022/12/dna-g81fee7659_640.jpg
END:VEVENT
BEGIN:VEVENT
DTSTART;TZID=America/New_York:20260526T190000
DTEND;TZID=America/New_York:20260526T203000
DTSTAMP:20260423T133139
CREATED:20251230T182316Z
LAST-MODIFIED:20260301T210854Z
UID:3420-1779822000-1779827400@cobbgagensoc.org
SUMMARY:General Meeting
DESCRIPTION:General Meeting \nTime: 7:00 – 8:30 pm ET \nLocation: First Presbyterian Church\, 189 Church Street\, Marietta\, GA 30060 \nTopic: Georgia’s Fallen Sons: The Renaming of Marietta Air Force Base \nDescription: \nIn the early 1950s\, the newly independent U.S. Air Force formalized how bases\, buildings\, airfields\, and other facilities could be named in honor of fallen Airmen. Marietta Air Force Base was one of the first to be renamed\, after local hero Charles Dobbins. But what about other local men who were nominated? Please join us for a lesson on the renaming of Marietta AFB while also learning about genealogical resources for researching your military family members. \nSpeaker: \nHannah Maloney Johnston is a Marietta native whose love of history runs deep in her family. Her roots trace back to Cobb County starting in 1842 and predate the Atlanta area during the 1820s. She graduated from the University of North Georgia with a Bachelor’s degree in Middle Grades Education\, with a concentration in social studies and language arts. Hannah has taught middle school Georgia History & ELA and high school AP Literature. \nAfter several years of teaching\, Hannah changed gears and became a state employee. She worked at the Georgia Professional Standards Commission for 5 years certifying educators. She is married to CPT Paul Johnston\, of the Georgia National Guard. She has two children. Not long after her daughter was born\, Hannah was bitten by the genealogy bug and was given the opportunity to manage the Old Marietta (O.M.) Facebook page. In her spare time\, she likes to volunteer with the Kennesaw Mountain chapter of the NSDAR and Cobb Thanks You for Your Service. \nHannah is a member of the board for Cobb County Genealogical Society\, serving as a director. She also enjoys cleaning headstones for family members and veterans. When time allows\, she also likes to go to the Georgia Room and read old issues of the Marietta Daily Journal on microfilm to research stories mentioned to her by others. She is committed to preserving Marietta’s stories and helping others discover their own family history.
URL:https://cobbgagensoc.org/ccgs-event/general-meeting-5-26-2026/
LOCATION:First Presbyterian Church\, 189 Church Street\, Marietta\, GA\, 30060\, United States
CATEGORIES:Meetings
ATTACH;FMTTYPE=image/jpeg:https://cobbgagensoc.org/wp-content/uploads/2023/03/ccgs_monthly_meeting_image_bookcase_lightened_full_size.jpg
END:VEVENT
END:VCALENDAR