BEGIN:VCALENDAR
VERSION:2.0
PRODID:-//Cobb County Genealogical Society - ECPv6.15.20//NONSGML v1.0//EN
CALSCALE:GREGORIAN
METHOD:PUBLISH
X-ORIGINAL-URL:https://cobbgagensoc.org
X-WR-CALDESC:Events for Cobb County Genealogical Society
REFRESH-INTERVAL;VALUE=DURATION:PT1H
X-Robots-Tag:noindex
X-PUBLISHED-TTL:PT1H
BEGIN:VTIMEZONE
TZID:America/New_York
BEGIN:DAYLIGHT
TZOFFSETFROM:-0500
TZOFFSETTO:-0400
TZNAME:EDT
DTSTART:20250309T070000
END:DAYLIGHT
BEGIN:STANDARD
TZOFFSETFROM:-0400
TZOFFSETTO:-0500
TZNAME:EST
DTSTART:20251102T060000
END:STANDARD
BEGIN:DAYLIGHT
TZOFFSETFROM:-0500
TZOFFSETTO:-0400
TZNAME:EDT
DTSTART:20260308T070000
END:DAYLIGHT
BEGIN:STANDARD
TZOFFSETFROM:-0400
TZOFFSETTO:-0500
TZNAME:EST
DTSTART:20261101T060000
END:STANDARD
BEGIN:DAYLIGHT
TZOFFSETFROM:-0500
TZOFFSETTO:-0400
TZNAME:EDT
DTSTART:20270314T070000
END:DAYLIGHT
BEGIN:STANDARD
TZOFFSETFROM:-0400
TZOFFSETTO:-0500
TZNAME:EST
DTSTART:20271107T060000
END:STANDARD
END:VTIMEZONE
BEGIN:VEVENT
DTSTART;TZID=America/New_York:20260613T100000
DTEND;TZID=America/New_York:20260613T120000
DTSTAMP:20260423T151151
CREATED:20251230T184725Z
LAST-MODIFIED:20260108T202203Z
UID:3442-1781344800-1781352000@cobbgagensoc.org
SUMMARY:Let's Do Something SIG
DESCRIPTION:Let’s Do Something SIG (2nd Saturday of each month: 10:00 am – Noon ET)\nDedicate two-hours for independent\, genealogy research each month. During the meeting\, attendees work independently\, but fellow researchers are available to offer suggestions if needed. \n13 June 2026 \nTime: 10:00 am – 12:00 pm ET \nLocation: Virtual \nTopic: Set aside 2 hours to work on your own genealogy. Fellow researchers are available to offer suggestions if you need assistance.
URL:https://cobbgagensoc.org/ccgs-event/lets-do-something-sig-6-13-26/
CATEGORIES:Special Interest groups
ATTACH;FMTTYPE=image/png:https://cobbgagensoc.org/wp-content/uploads/2023/01/lets_do_something_sig_3.fw_.png
END:VEVENT
BEGIN:VEVENT
DTSTART;TZID=America/New_York:20260616T190000
DTEND;TZID=America/New_York:20260616T210000
DTSTAMP:20260423T151151
CREATED:20251230T183936Z
LAST-MODIFIED:20251230T183936Z
UID:3434-1781636400-1781643600@cobbgagensoc.org
SUMMARY:DNA SIG (Virtual)
DESCRIPTION:DNA SIG (3rd Tuesday of each month: 7:00 – 9:00 pm ET)\nJoin us to explore the use of DNA testing in genealogy and gain a greater understanding of integrating DNA test results with traditional genealogical research. \n16 June 2026 \nTime: 7:00 – 9:00 pm ET \nLocation: Virtual \nTopic: SAVE THE DATE – More details coming soon! \n  \n  \n  \n 
URL:https://cobbgagensoc.org/ccgs-event/dna-sig-5-16-26/
LOCATION:Virtual
CATEGORIES:Special Interest groups
ATTACH;FMTTYPE=image/jpeg:https://cobbgagensoc.org/wp-content/uploads/2022/12/dna-g81fee7659_640.jpg
END:VEVENT
BEGIN:VEVENT
DTSTART;TZID=America/New_York:20260623T190000
DTEND;TZID=America/New_York:20260623T203000
DTSTAMP:20260423T151151
CREATED:20251230T182401Z
LAST-MODIFIED:20251230T182401Z
UID:3422-1782241200-1782246600@cobbgagensoc.org
SUMMARY:General Meeting
DESCRIPTION:General Meeting \nTime: 7:00 – 8:30 pm ET \nSAVE THE DATE – More details coming soon!
URL:https://cobbgagensoc.org/ccgs-event/general-meeting-6-23-2026/
LOCATION:First Presbyterian Church\, 189 Church Street\, Marietta\, GA\, 30060\, United States
CATEGORIES:Meetings
ATTACH;FMTTYPE=image/jpeg:https://cobbgagensoc.org/wp-content/uploads/2023/03/ccgs_monthly_meeting_image_bookcase_lightened_full_size.jpg
END:VEVENT
BEGIN:VEVENT
DTSTART;TZID=America/New_York:20260625T190000
DTEND;TZID=America/New_York:20260625T203000
DTSTAMP:20260423T151151
CREATED:20251230T191902Z
LAST-MODIFIED:20260205T153551Z
UID:3461-1782414000-1782419400@cobbgagensoc.org
SUMMARY:Writing SIG (Virtual)
DESCRIPTION:Writing SIG (4th Thursday of every other month virtually 7:00 – 8:30 pm ET) \nJoin us to learn the stages of creating\, developing\, revising\, and publicizing writing in genealogy\, from informal and personal reminiscences to articles and family histories. \nWriting SIG is currently on hiatus. Please check back later. \n  \n 
URL:https://cobbgagensoc.org/ccgs-event/writing-sig-6-25-2026/
LOCATION:Virtual
CATEGORIES:Special Interest groups
ATTACH;FMTTYPE=image/jpeg:https://cobbgagensoc.org/wp-content/uploads/2022/10/writing-SIG.jpg
END:VEVENT
END:VCALENDAR